Workbook

Sheet MATRIZ RCC
B2: MATRIZ DE INFORMACIÓN MINIMA PARA INFORME FINAL DE RENDICIÓN DE CUENTAS AL CIUDADANO - EJERCICIO 2026
B4: 1- PRESENTACIÓN
B5: Institución: | C5: Ministerio del Ambiente y Desarrollo Sostenible
B6: Periodo del informe: | C6: Enero - Febrero - Marzo 2026
B7: Misión institucional
B8: Entidad pública encargada de establecer y evaluar la Política Ambiental Nacional, promoviendo la investigación, preservación, conservación, recuperación, protección, ordenamiento, manejo y aprovechamiento de los recursos naturales, a fin de alcanzar el desarrollo sostenible y garantizar el derecho de los ciudadanos a vivir en un ambiente sano
B15: 2-PRESENTACIÓN DE LOS MIEMBROS DEL COMITÉ DE RENDICIÓN DE CUENTAS AL CIUDADANO (CRCC)
B16: https://www.mades.gov.py/wp-content/uploads/2025/03/Resolucion-45.pdf
B17: Nro. | C17: Dependencia | E17: Responsable | G17: Cargo que Ocupa
B18: 1 | C18: Direccion de Transparencia y Anticorrupción | E18: Julio Ferreira | G18: Director
B19: 2 | C19: Dirección General de Protección y Conservacion de la Biodiversidad | E19: Carlos Monges | G19: Director General
B20: 3 | C20: Dirección de Planificación Estrategica | E20: Jesús Riquelme | G20: Jefatura
B21: 4 | C21: Dirección de Gabinete | E21: Sergio Garay | G21: Coordinador
B22: 5 | C22: Dirección de Comunicaciones | E22: Cecilia Fariña | G22: Jefatura
B23: 6 | C23: Dirección General de Gestión Ambiental | E23: Claudio Velázquez | G23: Director
B24: 7 | C24: Dirección de Administración y Finanzas | E24: Julio Verthe | G24: Director
B25: 8 | C25: Dirección de Auditoria Interna | E25: Sandra Leiva | G25: Directora
B26: 9 | C26: Dirección General del Aire | E26: Mirtha Almada | G26: Jefatura
B27: 10 | C27: Dirección General de Protección y Conservacion de los Recursos Hidricos | E27: Beatriz Silvero | G27: Jefatura
B28: 11 | C28: Direccion de Sistema Informático | E28: Amadeo Bazán | G28: Tecnico
B29: 12 | C29: Coordinacion del MECIP | E29: Jesús Riquelme | G29: Coordinador
B30: 13 | C30: Dirección General de Control de la Calidad Ambiental R.N | E30: Monica Benitez | G30: Jefatura
B31: Cantidad de Miembros del CRCC: | F31: 13
B32: Total Hombres : | F32: 8
B33: Total Mujeres: | F33: 5
B34: Total nivel directivo o rango superior: | F34: 0.9844
B36: 2- PLAN DE RENDICIÓN DE CUENTAS AL CIUDADANO
B37: 2.1 Resolución de Aprobación y Anexo de Plan de Rendición de Cuentas
B38: https://www.mades.gov.py/wp-content/uploads/2026/03/PLAN-ANUAL-DE-RENDICION-RES-147-26.pdf
B39: 2.2 Plan de Rendición de Cuentas. (Copiar abajo link de acceso directo)
B40: https://www.mades.gov.py/wp-content/uploads/2026/03/PLAN-ANUAL-DE-RENDICION-RES-147-26.pdf
B41: Priorización | C41: Tema | E41: Vinculación POI, PEI, PND, ODS. | F41: Justificaciones | H41: Evidencia
B42: 1° | C42: Declaraciones de Impacto Ambiental: Las actividades humanas ocasionan impacto al ambiente, por esa razón el Ministerio del Ambiente y Desarrollo Sostenible, a través de la DGCCARN, emite Declaraciones de Impacto Ambiental. Estas DIA son el resultado de informes técnicos que tienen como propósito medir el impacto, sea positivo o negativo, de la actividad al ambiente para posteriormente aprobar o rechazar el proyecto desde la perspectiva ambiental. | E42: PND 2030: Estrategia "Sostenibilidad del Hábitat Global". ODS: ODS 15 - Meta 15.2. De aquí a 2020, promover la puesta en práctica de la gestión sostenible de todos los tipos de bosques, detener la deforestación, recuperar los bosques degradados y aumentar considerablemente la forestación y la reforestación a nivel mundial. | F42: Para lograr el desarrollo sustentable, existen mecanismos preventivos en la gestión ambiental. De acuerdo a la Ley N° 294/93 "De Evaluación de Impacto Ambiental", la Declaración de Impacto Ambiental es el estudio científico que permite identificar, prever y estimar impactos ambientales en obras y actividades proyectadas. | H42: Informe Semestral presentado a la DPE
B43: 2° | C43: Fiscalizaciones e intervenciones en el marco de la legislación ambiental vigente: Control del cumplimiento de las leyes ambientales; intervención a responsables de incumplir la legislación ambiental para el sumario administrativo correspondiente, y, en su caso, denuncia penal. | E43: ODS: ODS 6 / Meta 6.3 De aquí a 2030, mejorar la calidad del agua reduciendo la contaminación, eliminando el vertimiento y minimizando la emisión de productos químicos y materiales peligrosos, reduciendo a la mitad el porcentaje de aguas residuales sin tratar y aumentando considerablemente el reciclado y la reutilización sin riesgos a nivel mundial; 6.6 De aquí a 2020, proteger y restablecer los ecosistemas relacionados con el agua, incluidos los bosques, las montañas, los humedales, los ríos, los acuíferos y los lagos; ODS 11 / Meta 11.4 Redoblar los esfuerzos para proteger y salvaguardar el patrimonio cultural y natural del mundo; ODS 12 / Meta 12.2 De aquí a 2030, lograr la gestión sostenible y el uso eficiente de los recursos naturales; ODS 15 / Meta 15.2 Para 2020, promover la gestión sostenible de todos los tipos de bosques, poner fin a la deforestación, recuperar los bosques degradados e incrementar la forestación y la reforestación a nivel mundial; Meta 15.7 Adoptar medidas urgentes para poner fin a la caza furtiva y el tráfico de especies protegidas de flora y fauna y abordar la demanda y la oferta ilegales de productos silvestres. | F43: Las Fiscalizaciones realizadas en el marco de las denuncias y de lo establecido en las leyes ambientales contribuyen a identificar a los infractores. De la identificación, resulta un sumario administrativo que impone no solo sanciones pecuniarias, sino acciones de recomposición y restauración del ecosistema dañado y degradado. Es así que, la tarea encomendada a la DFAI es crucial para el cumplimiento de la Misión y Visión de la Institución. | H43: Informe Semestral presentado a la DPE
B44: 3° | C44: Regimen de Servicios Ambientales: Consiste en la evaluación de proyectos de certificación de servicios ambientales, la inscripción de registros de transacciones de CSA y las evaluaciones de gabinete y verificaciones in situ para mantener la calidad de los recursos naturales. | E44: ODS: Objetivo 15. - Meta 15.1.1 Superficie forestal en proporción a la superficie total. Objetivo 15 - Meta 15.9 De aquí a 2020, integrar los valores de los ecosistemas y la biodiversidad en la planificación, los procesos de desarrollo, las estrategias de reducción de la pobreza y la contabilidad nacionales y locales PND 2030: Estrategia "Sostenibilidad del Hábitat Global" | F44: El Ministerio del Ambiente y Desarrollo Sostenible, entre todas las funciones que realiza, ha generado un mecanismo de protección de los remanentes de bosques que finalmente son el pulmón del mundo. A través de la DSA se da cumplimiento a lo establecido en la Ley N° 3001 " ", que motiva a los propietarios de bosques a la protección de sus bosques generando un mecanismo de certificación, el cual tiene un valor monetario. | H44: Informe Semestral presentado a la DPE
B46: 3- GESTIÓN INSTITUCIONAL
B47: 3.1 Nivel de Cumplimiento de Minimo de Información Disponible - Transparencia Activa Ley 5189 /14
B48: Mes | C48: Nivel de Cumplimiento | F48: Enlace de publicación
B49: Enero | C49: REPORTADO | F49: https://www.mades.gov.py/ley-de-transparencia-y-anticorrupcion/
B50: Febrero | C50: REPORTADO
...

Sheet TOTALES
A1: MINISTERIO DEL AMBIENTE Y DESARROLLO SOSTENIBLE - ENERO-FEBRERO-MARZO 2026
A2: INSTRUMENTOS DE GESTIÓN | E2: TOTALES
B3: CANTIDAD POR DEPARTAMENTO. | C3: DISTRITO | D3: CANTIDAD POR DISTRITO | E3: DESTINATARIOS
E4: Mujeres | F4: Hombres | G4: SRL | H4: SA | I4: LTDA | J4: Agentes de Actividad aduanera | K4: Sociedades Auditoras Externas | L4: Empresas Mixtas o Públicas | M4: Entidades sin fines de Lucro | N4: Inst. De Gobierno Departamental | O4: Inst. De Gobierno Municipal | P4: Patrimonio Autónomo (Fideicomisos) | Q4: Sociedades Emisoras de Capital Abierto | R4: Instituc. de Gobierno Nacional | S4: Sociedades Calificadoras de Riesgo | T4: Administradoras de Fondos Mutuos | U4: Inst. Educativas Basica y Media | V4: Establecimiento de Salud | W4: Consejos Regionales y Locales | X4: Organismos Internacionales | Y4: Comunidades Indígenas | Z4: No Especificado
A5: CAPITAL | B5: =D5 -> 1267 | C5: Asunción | D5: =SUM(E5:Z5) -> 1267 | E5: =ENERO!E5+FEBRERO!E5+MARZO!E5 -> 147 | F5: =ENERO!F5+FEBRERO!F5+MARZO!F5 -> 436 | G5: =ENERO!G5+FEBRERO!G5+MARZO!G5 -> 208 | H5: =ENERO!H5+FEBRERO!H5+MARZO!H5 -> 393 | I5: =ENERO!I5+FEBRERO!I5+MARZO!I5 -> 72 | J5: =ENERO!J5+FEBRERO!J5+MARZO!J5 -> 0 | K5: =ENERO!K5+FEBRERO!K5+MARZO!K5 -> 0 | L5: =ENERO!L5+FEBRERO!L5+MARZO!L5 -> 0 | ... Z5: =ENERO!Z5+FEBRERO!Z5+MARZO!Z5 -> 7
A6: CONCEPCION | B6: =SUM(D6:D17) -> 189 | C6: Arroyito | D6: =SUM(E6:Z6) -> 14 | E6: =ENERO!E6+FEBRERO!E6+MARZO!E6 -> 6 | F6: =ENERO!F6+FEBRERO!F6+MARZO!F6 -> 2 | G6: =ENERO!G6+FEBRERO!G6+MARZO!G6 -> 6 | H6: =ENERO!H6+FEBRERO!H6+MARZO!H6 -> 0 | I6: =ENERO!I6+FEBRERO!I6+MARZO!I6 -> 0 | J6: =ENERO!J6+FEBRERO!J6+MARZO!J6 -> 0 | K6: =ENERO!K6+FEBRERO!K6+MARZO!K6 -> 0 | L6: =ENERO!L6+FEBRERO!L6+MARZO!L6 -> 0 | ... Z6: =ENERO!Z6+FEBRERO!Z6+MARZO!Z6 -> 0
C7: Azotey | D7: =SUM(E7:Z7) -> 10 | E7: =ENERO!E7+FEBRERO!E7+MARZO!E7 -> 1 | F7: =ENERO!F7+FEBRERO!F7+MARZO!F7 -> 5 | G7: =ENERO!G7+FEBRERO!G7+MARZO!G7 -> 0 | H7: =ENERO!H7+FEBRERO!H7+MARZO!H7 -> 4 | I7: =ENERO!I7+FEBRERO!I7+MARZO!I7 -> 0 | J7: =ENERO!J7+FEBRERO!J7+MARZO!J7 -> 0 | K7: =ENERO!K7+FEBRERO!K7+MARZO!K7 -> 0 | L7: =ENERO!L7+FEBRERO!L7+MARZO!L7 -> 0 | ... Z7: =ENERO!Z7+FEBRERO!Z7+MARZO!Z7 -> 0
C8: Belén | D8: =SUM(E8:Z8) -> 7 | E8: =ENERO!E8+FEBRERO!E8+MARZO!E8 -> 5 | F8: =ENERO!F8+FEBRERO!F8+MARZO!F8 -> 1 | G8: =ENERO!G8+FEBRERO!G8+MARZO!G8 -> 0 | H8: =ENERO!H8+FEBRERO!H8+MARZO!H8 -> 1 | I8: =ENERO!I8+FEBRERO!I8+MARZO!I8 -> 0 | J8: =ENERO!J8+FEBRERO!J8+MARZO!J8 -> 0 | K8: =ENERO!K8+FEBRERO!K8+MARZO!K8 -> 0 | L8: =ENERO!L8+FEBRERO!L8+MARZO!L8 -> 0 | ... Z8: =ENERO!Z8+FEBRERO!Z8+MARZO!Z8 -> 0
C9: Concepción | D9: =SUM(E9:Z9) -> 24 | E9: =ENERO!E9+FEBRERO!E9+MARZO!E9 -> 4 | F9: =ENERO!F9+FEBRERO!F9+MARZO!F9 -> 6 | G9: =ENERO!G9+FEBRERO!G9+MARZO!G9 -> 2 | H9: =ENERO!H9+FEBRERO!H9+MARZO!H9 -> 12 | I9: =ENERO!I9+FEBRERO!I9+MARZO!I9 -> 0 | J9: =ENERO!J9+FEBRERO!J9+MARZO!J9 -> 0 | K9: =ENERO!K9+FEBRERO!K9+MARZO!K9 -> 0 | L9: =ENERO!L9+FEBRERO!L9+MARZO!L9 -> 0 | ... Z9: =ENERO!Z9+FEBRERO!Z9+MARZO!Z9 -> 0
C10: Horqueta | D10: =SUM(E10:Z10) -> 20 | E10: =ENERO!E10+FEBRERO!E10+MARZO!E10 -> 4 | F10: =ENERO!F10+FEBRERO!F10+MARZO!F10 -> 6 | G10: =ENERO!G10+FEBRERO!G10+MARZO!G10 -> 0 | H10: =ENERO!H10+FEBRERO!H10+MARZO!H10 -> 10 | I10: =ENERO!I10+FEBRERO!I10+MARZO!I10 -> 0 | J10: =ENERO!J10+FEBRERO!J10+MARZO!J10 -> 0 | K10: =ENERO!K10+FEBRERO!K10+MARZO!K10 -> 0 | L10: =ENERO!L10+FEBRERO!L10+MARZO!L10 -> 0 | ... Z10: =ENERO!Z10+FEBRERO!Z10+MARZO!Z10 -> 0
C11: Loreto | D11: =SUM(E11:Z11) -> 13 | E11: =ENERO!E11+FEBRERO!E11+MARZO!E11 -> 3 | F11: =ENERO!F11+FEBRERO!F11+MARZO!F11 -> 2 | G11: =ENERO!G11+FEBRERO!G11+MARZO!G11 -> 8 | H11: =ENERO!H11+FEBRERO!H11+MARZO!H11 -> 0 | I11: =ENERO!I11+FEBRERO!I11+MARZO!I11 -> 0 | J11: =ENERO!J11+FEBRERO!J11+MARZO!J11 -> 0 | K11: =ENERO!K11+FEBRERO!K11+MARZO!K11 -> 0 | L11: =ENERO!L11+FEBRERO!L11+MARZO!L11 -> 0 | ... Z11: =ENERO!Z11+FEBRERO!Z11+MARZO!Z11 -> 0
C12: San Carlos del Apa | D12: =SUM(E12:Z12) -> 8 | E12: =ENERO!E12+FEBRERO!E12+MARZO!E12 -> 3 | F12: =ENERO!F12+FEBRERO!F12+MARZO!F12 -> 2 | G12: =ENERO!G12+FEBRERO!G12+MARZO!G12 -> 0 | H12: =ENERO!H12+FEBRERO!H12+MARZO!H12 -> 3 | I12: =ENERO!I12+FEBRERO!I12+MARZO!I12 -> 0 | J12: =ENERO!J12+FEBRERO!J12+MARZO!J12 -> 0 | K12: =ENERO!K12+FEBRERO!K12+MARZO!K12 -> 0 | L12: =ENERO!L12+FEBRERO!L12+MARZO!L12 -> 0 | ... Z12: =ENERO!Z12+FEBRERO!Z12+MARZO!Z12 -> 0
C13: San Lázaro | D13: =SUM(E13:Z13) -> 59 | E13: =ENERO!E13+FEBRERO!E13+MARZO!E13 -> 11 | F13: =ENERO!F13+FEBRERO!F13+MARZO!F13 -> 44 | G13: =ENERO!G13+FEBRERO!G13+MARZO!G13 -> 3 | H13: =ENERO!H13+FEBRERO!H13+MARZO!H13 -> 0 | I13: =ENERO!I13+FEBRERO!I13+MARZO!I13 -> 0 | J13: =ENERO!J13+FEBRERO!J13+MARZO!J13 -> 0 | K13: =ENERO!K13+FEBRERO!K13+MARZO!K13 -> 0 | L13: =ENERO!L13+FEBRERO!L13+MARZO!L13 -> 0 | ... Z13: =ENERO!Z13+FEBRERO!Z13+MARZO!Z13 -> 1
C14: Yby Yaú | D14: =SUM(E14:Z14) -> 7 | E14: =ENERO!E14+FEBRERO!E14+MARZO!E14 -> 3 | F14: =ENERO!F14+FEBRERO!F14+MARZO!F14 -> 2 | G14: =ENERO!G14+FEBRERO!G14+MARZO!G14 -> 1 | H14: =ENERO!H14+FEBRERO!H14+MARZO!H14 -> 1 | I14: =ENERO!I14+FEBRERO!I14+MARZO!I14 -> 0 | J14: =ENERO!J14+FEBRERO!J14+MARZO!J14 -> 0 | K14: =ENERO!K14+FEBRERO!K14+MARZO!K14 -> 0 | L14: =ENERO!L14+FEBRERO!L14+MARZO!L14 -> 0 | ... Z14: =ENERO!Z14+FEBRERO!Z14+MARZO!Z14 -> 0
C15: Sargento José Félix López | D15: =SUM(E15:Z15) -> 15 | E15: =ENERO!E15+FEBRERO!E15+MARZO!E15 -> 3 | F15: =ENERO!F15+FEBRERO!F15+MARZO!F15 -> 3 | G15: =ENERO!G15+FEBRERO!G15+MARZO!G15 -> 6 | H15: =ENERO!H15+FEBRERO!H15+MARZO!H15 -> 3 | I15: =ENERO!I15+FEBRERO!I15+MARZO!I15 -> 0 | J15: =ENERO!J15+FEBRERO!J15+MARZO!J15 -> 0 | K15: =ENERO!K15+FEBRERO!K15+MARZO!K15 -> 0 | L15: =ENERO!L15+FEBRERO!L15+MARZO!L15 -> 0 | ... Z15: =ENERO!Z15+FEBRERO!Z15+MARZO!Z15 -> 0
C16: San Alfredo | D16: =SUM(E16:Z16) -> 9 | E16: =ENERO!E16+FEBRERO!E16+MARZO!E16 -> 6 | F16: =ENERO!F16+FEBRERO!F16+MARZO!F16 -> 3 | G16: =ENERO!G16+FEBRERO!G16+MARZO!G16 -> 0 | H16: =ENERO!H16+FEBRERO!H16+MARZO!H16 -> 0 | I16: =ENERO!I16+FEBRERO!I16+MARZO!I16 -> 0 | J16: =ENERO!J16+FEBRERO!J16+MARZO!J16 -> 0 | K16: =ENERO!K16+FEBRERO!K16+MARZO!K16 -> 0 | L16: =ENERO!L16+FEBRERO!L16+MARZO!L16 -> 0 | ... Z16: =ENERO!Z16+FEBRERO!Z16+MARZO!Z16 -> 0
C17: Paso Barreto | D17: =SUM(E17:Z17) -> 3 | E17: =ENERO!E17+FEBRERO!E17+MARZO!E17 -> 0 | F17: =ENERO!F17+FEBRERO!F17+MARZO!F17 -> 0 | G17: =ENERO!G17+FEBRERO!G17+MARZO!G17 -> 3 | H17: =ENERO!H17+FEBRERO!H17+MARZO!H17 -> 0 | I17: =ENERO!I17+FEBRERO!I17+MARZO!I17 -> 0 | J17: =ENERO!J17+FEBRERO!J17+MARZO!J17 -> 0 | K17: =ENERO!K17+FEBRERO!K17+MARZO!K17 -> 0 | L17: =ENERO!L17+FEBRERO!L17+MARZO!L17 -> 0 | ... Z17: =ENERO!Z17+FEBRERO!Z17+MARZO!Z17 -> 0
A18: SAN PEDRO | B18: =SUM(D18:D38) -> 239 | C18: Antequera | D18: =SUM(E18:Z18) -> 16 | E18: =ENERO!E18+FEBRERO!E18+MARZO!E18 -> 0 | F18: =ENERO!F18+FEBRERO!F18+MARZO!F18 -> 3 | G18: =ENERO!G18+FEBRERO!G18+MARZO!G18 -> 8 | H18: =ENERO!H18+FEBRERO!H18+MARZO!H18 -> 5 | I18: =ENERO!I18+FEBRERO!I18+MARZO!I18 -> 0 | J18: =ENERO!J18+FEBRERO!J18+MARZO!J18 -> 0 | K18: =ENERO!K18+FEBRERO!K18+MARZO!K18 -> 0 | L18: =ENERO!L18+FEBRERO!L18+MARZO!L18 -> 0 | ... Z18: =ENERO!Z18+FEBRERO!Z18+MARZO!Z18 -> 0
C19: Capiibary | D19: =SUM(E19:Z19) -> 7 | E19: =ENERO!E19+FEBRERO!E19+MARZO!E19 -> 3 | F19: =ENERO!F19+FEBRERO!F19+MARZO!F19 -> 3 | G19: =ENERO!G19+FEBRERO!G19+MARZO!G19 -> 0 | H19: =ENERO!H19+FEBRERO!H19+MARZO!H19 -> 1 | I19: =ENERO!I19+FEBRERO!I19+MARZO!I19 -> 0 | J19: =ENERO!J19+FEBRERO!J19+MARZO!J19 -> 0 | K19: =ENERO!K19+FEBRERO!K19+MARZO!K19 -> 0 | L19: =ENERO!L19+FEBRERO!L19+MARZO!L19 -> 0 | ... Z19: =ENERO!Z19+FEBRERO!Z19+MARZO!Z19 -> 0
C20: Choré | D20: =SUM(E20:Z20) -> 21 | E20: =ENERO!E20+FEBRERO!E20+MARZO!E20 -> 5 | F20: =ENERO!F20+FEBRERO!F20+MARZO!F20 -> 6 | G20: =ENERO!G20+FEBRERO!G20+MARZO!G20 -> 5 | H20: =ENERO!H20+FEBRERO!H20+MARZO!H20 -> 5 | I20: =ENERO!I20+FEBRERO!I20+MARZO!I20 -> 0 | J20: =ENERO!J20+FEBRERO!J20+MARZO!J20 -> 0 | K20: =ENERO!K20+FEBRERO!K20+MARZO!K20 -> 0 | L20: =ENERO!L20+FEBRERO!L20+MARZO!L20 -> 0 | ... Z20: =ENERO!Z20+FEBRERO!Z20+MARZO!Z20 -> 0
C21: General Elizardo Aquino | D21: =SUM(E21:Z21) -> 7 | E21: =ENERO!E21+FEBRERO!E21+MARZO!E21 -> 2 | F21: =ENERO!F21+FEBRERO!F21+MARZO!F21 -> 5 | G21: =ENERO!G21+FEBRERO!G21+MARZO!G21 -> 0 | H21: =ENERO!H21+FEBRERO!H21+MARZO!H21 -> 0 | I21: =ENERO!I21+FEBRERO!I21+MARZO!I21 -> 0 | J21: =ENERO!J21+FEBRERO!J21+MARZO!J21 -> 0 | K21: =ENERO!K21+FEBRERO!K21+MARZO!K21 -> 0 | L21: =ENERO!L21+FEBRERO!L21+MARZO!L21 -> 0 | ... Z21: =ENERO!Z21+FEBRERO!Z21+MARZO!Z21 -> 0
C22: General Isidoro Resquín | D22: =SUM(E22:Z22) -> 12 | E22: =ENERO!E22+FEBRERO!E22+MARZO!E22 -> 3 | F22: =ENERO!F22+FEBRERO!F22+MARZO!F22 -> 4 | G22: =ENERO!G22+FEBRERO!G22+MARZO!G22 -> 0 | H22: =ENERO!H22+FEBRERO!H22+MARZO!H22 -> 5 | I22: =ENERO!I22+FEBRERO!I22+MARZO!I22 -> 0 | J22: =ENERO!J22+FEBRERO!J22+MARZO!J22 -> 0 | K22: =ENERO!K22+FEBRERO!K22+MARZO!K22 -> 0 | L22: =ENERO!L22+FEBRERO!L22+MARZO!L22 -> 0 | ... Z22: =ENERO!Z22+FEBRERO!Z22+MARZO!Z22 -> 0
C23: Guayaibí | D23: =SUM(E23:Z23) -> 17 | E23: =ENERO!E23+FEBRERO!E23+MARZO!E23 -> 5 | F23: =ENERO!F23+FEBRERO!F23+MARZO!F23 -> 2 | G23: =ENERO!G23+FEBRERO!G23+MARZO!G23 -> 3 | H23: =ENERO!H23+FEBRERO!H23+MARZO!H23 -> 6 | I23: =ENERO!I23+FEBRERO!I23+MARZO!I23 -> 0 | J23: =ENERO!J23+FEBRERO!J23+MARZO!J23 -> 0 | K23: =ENERO!K23+FEBRERO!K23+MARZO!K23 -> 0 | L23: =ENERO!L23+FEBRERO!L23+MARZO!L23 -> 0 | ... Z23: =ENERO!Z23+FEBRERO!Z23+MARZO!Z23 -> 1
C24: Itacurubí del Rosario | D24: =SUM(E24:Z24) -> 8 | E24: =ENERO!E24+FEBRERO!E24+MARZO!E24 -> 3 | F24: =ENERO!F24+FEBRERO!F24+MARZO!F24 -> 4 | G24: =ENERO!G24+FEBRERO!G24+MARZO!G24 -> 0 | H24: =ENERO!H24+FEBRERO!H24+MARZO!H24 -> 1 | I24: =ENERO!I24+FEBRERO!I24+MARZO!I24 -> 0 | J24: =ENERO!J24+FEBRERO!J24+MARZO!J24 -> 0 | K24: =ENERO!K24+FEBRERO!K24+MARZO!K24 -> 0 | L24: =ENERO!L24+FEBRERO!L24+MARZO!L24 -> 0 | ... Z24: =ENERO!Z24+FEBRERO!Z24+MARZO!Z24 -> 0
C25: Liberación | D25: =SUM(E25:Z25) -> 8 | E25: =ENERO!E25+FEBRERO!E25+MARZO!E25 -> 2 | F25: =ENERO!F25+FEBRERO!F25+MARZO!F25 -> 4 | G25: =ENERO!G25+FEBRERO!G25+MARZO!G25 -> 0 | H25: =ENERO!H25+FEBRERO!H25+MARZO!H25 -> 2 | I25: =ENERO!I25+FEBRERO!I25+MARZO!I25 -> 0 | J25: =ENERO!J25+FEBRERO!J25+MARZO!J25 -> 0 | K25: =ENERO!K25+FEBRERO!K25+MARZO!K25 -> 0 | L25: =ENERO!L25+FEBRERO!L25+MARZO!L25 -> 0 | ... Z25: =ENERO!Z25+FEBRERO!Z25+MARZO!Z25 -> 0
C26: Lima | D26: =SUM(E26:Z26) -> 16 | E26: =ENERO!E26+FEBRERO!E26+MARZO!E26 -> 2 | F26: =ENERO!F26+FEBRERO!F26+MARZO!F26 -> 6 | G26: =ENERO!G26+FEBRERO!G26+MARZO!G26 -> 3 | H26: =ENERO!H26+FEBRERO!H26+MARZO!H26 -> 5 | I26: =ENERO!I26+FEBRERO!I26+MARZO!I26 -> 0 | J26: =ENERO!J26+FEBRERO!J26+MARZO!J26 -> 0 | K26: =ENERO!K26+FEBRERO!K26+MARZO!K26 -> 0 | L26: =ENERO!L26+FEBRERO!L26+MARZO!L26 -> 0 | ... Z26: =ENERO!Z26+FEBRERO!Z26+MARZO!Z26 -> 0
C27: Nueva Germania | D27: =SUM(E27:Z27) -> 4 | E27: =ENERO!E27+FEBRERO!E27+MARZO!E27 -> 3 | F27: =ENERO!F27+FEBRERO!F27+MARZO!F27 -> 0 | G27: =ENERO!G27+FEBRERO!G27+MARZO!G27 -> 0 | H27: =ENERO!H27+FEBRERO!H27+MARZO!H27 -> 1 | I27: =ENERO!I27+FEBRERO!I27+MARZO!I27 -> 0 | J27: =ENERO!J27+FEBRERO!J27+MARZO!J27 -> 0 | K27: =ENERO!K27+FEBRERO!K27+MARZO!K27 -> 0 | L27: =ENERO!L27+FEBRERO!L27+MARZO!L27 -> 0 | ... Z27: =ENERO!Z27+FEBRERO!Z27+MARZO!Z27 -> 0
C28: San Estanislao | D28: =SUM(E28:Z28) -> 25 | E28: =ENERO!E28+FEBRERO!E28+MARZO!E28 -> 2 | F28: =ENERO!F28+FEBRERO!F28+MARZO!F28 -> 9 | G28: =ENERO!G28+FEBRERO!G28+MARZO!G28 -> 0 | H28: =ENERO!H28+FEBRERO!H28+MARZO!H28 -> 10 | I28: =ENERO!I28+FEBRERO!I28+MARZO!I28 -> 0 | J28: =ENERO!J28+FEBRERO!J28+MARZO!J28 -> 0 | K28: =ENERO!K28+FEBRERO!K28+MARZO!K28 -> 0 | L28: =ENERO!L28+FEBRERO!L28+MARZO!L28 -> 0 | ... Z28: =ENERO!Z28+FEBRERO!Z28+MARZO!Z28 -> 2
C29: San Pablo | D29: =SUM(E29:Z29) -> 14 | E29: =ENERO!E29+FEBRERO!E29+MARZO!E29 -> 3 | F29: =ENERO!F29+FEBRERO!F29+MARZO!F29 -> 5 | G29: =ENERO!G29+FEBRERO!G29+MARZO!G29 -> 3 | H29: =ENERO!H29+FEBRERO!H29+MARZO!H29 -> 1 | I29: =ENERO!I29+FEBRERO!I29+MARZO!I29 -> 2 | J29: =ENERO!J29+FEBRERO!J29+MARZO!J29 -> 0 | K29: =ENERO!K29+FEBRERO!K29+MARZO!K29 -> 0 | L29: =ENERO!L29+FEBRERO!L29+MARZO!L29 -> 0 | ... Z29: =ENERO!Z29+FEBRERO!Z29+MARZO!Z29 -> 0
C30: San Pedro del Ycuamandiyú | D30: =SUM(E30:Z30) -> 15 | E30: =ENERO!E30+FEBRERO!E30+MARZO!E30 -> 1 | F30: =ENERO!F30+FEBRERO!F30+MARZO!F30 -> 10 | G30: =ENERO!G30+FEBRERO!G30+MARZO!G30 -> 0 | H30: =ENERO!H30+FEBRERO!H30+MARZO!H30 -> 2 | I30: =ENERO!I30+FEBRERO!I30+MARZO!I30 -> 2 | J30: =ENERO!J30+FEBRERO!J30+MARZO!J30 -> 0 | K30: =ENERO!K30+FEBRERO!K30+MARZO!K30 -> 0 | L30: =ENERO!L30+FEBRERO!L30+MARZO!L30 -> 0 | ... Z30: =ENERO!Z30+FEBRERO!Z30+MARZO!Z30 -> 0
... C38: Yrybucuá | D38: =SUM(E38:Z38) -> 7 | E38: =ENERO!E38+FEBRERO!E38+MARZO!E38 -> 3 | F38: =ENERO!F38+FEBRERO!F38+MARZO!F38 -> 0 | G38: =ENERO!G38+FEBRERO!G38+MARZO!G38 -> 0 | H38: =ENERO!H38+FEBRERO!H38+MARZO!H38 -> 4 | I38: =ENERO!I38+FEBRERO!I38+MARZO!I38 -> 0 | J38: =ENERO!J38+FEBRERO!J38+MARZO!J38 -> 0 | K38: =ENERO!K38+FEBRERO!K38+MARZO!K38 -> 0 | L38: =ENERO!L38+FEBRERO!L38+MARZO!L38 -> 0 | ... Z38: =ENERO!Z38+FEBRERO!Z38+MARZO!Z38 -> 0
A39: CORDILLERA | B39: =SUM(D39:D58) -> 267 | C39: Altos | D39: =SUM(E39:Z39) -> 16 | E39: =ENERO!E39+FEBRERO!E39+MARZO!E39 -> 6 | F39: =ENERO!F39+FEBRERO!F39+MARZO!F39 -> 5 | G39: =ENERO!G39+FEBRERO!G39+MARZO!G39 -> 1 | H39: =ENERO!H39+FEBRERO!H39+MARZO!H39 -> 2 | I39: =ENERO!I39+FEBRERO!I39+MARZO!I39 -> 0 | J39: =ENERO!J39+FEBRERO!J39+MARZO!J39 -> 0 | K39: =ENERO!K39+FEBRERO!K39+MARZO!K39 -> 0 | L39: =ENERO!L39+FEBRERO!L39+MARZO!L39 -> 0 | ... Z39: =ENERO!Z39+FEBRERO!Z39+MARZO!Z39 -> 1
C40: Arroyos y Esteros | D40: =SUM(E40:Z40) -> 17 | E40: =ENERO!E40+FEBRERO!E40+MARZO!E40 -> 3 | F40: =ENERO!F40+FEBRERO!F40+MARZO!F40 -> 7 | G40: =ENERO!G40+FEBRERO!G40+MARZO!G40 -> 3 | H40: =ENERO!H40+FEBRERO!H40+MARZO!H40 -> 4 | I40: =ENERO!I40+FEBRERO!I40+MARZO!I40 -> 0 | J40: =ENERO!J40+FEBRERO!J40+MARZO!J40 -> 0 | K40: =ENERO!K40+FEBRERO!K40+MARZO!K40 -> 0 | L40: =ENERO!L40+FEBRERO!L40+MARZO!L40 -> 0 | ... Z40: =ENERO!Z40+FEBRERO!Z40+MARZO!Z40 -> 0
C41: Atyrá | D41: =SUM(E41:Z41) -> 6 | E41: =ENERO!E41+FEBRERO!E41+MARZO!E41 -> 3 | F41: =ENERO!F41+FEBRERO!F41+MARZO!F41 -> 1 | G41: =ENERO!G41+FEBRERO!G41+MARZO!G41 -> 0 | H41: =ENERO!H41+FEBRERO!H41+MARZO!H41 -> 2 | I41: =ENERO!I41+FEBRERO!I41+MARZO!I41 -> 0 | J41: =ENERO!J41+FEBRERO!J41+MARZO!J41 -> 0 | K41: =ENERO!K41+FEBRERO!K41+MARZO!K41 -> 0 | L41: =ENERO!L41+FEBRERO!L41+MARZO!L41 -> 0 | ... Z41: =ENERO!Z41+FEBRERO!Z41+MARZO!Z41 -> 0
C42: Caacupé | D42: =SUM(E42:Z42) -> 35 | E42: =ENERO!E42+FEBRERO!E42+MARZO!E42 -> 4 | F42: =ENERO!F42+FEBRERO!F42+MARZO!F42 -> 19 | G42: =ENERO!G42+FEBRERO!G42+MARZO!G42 -> 5 | H42: =ENERO!H42+FEBRERO!H42+MARZO!H42 -> 4 | I42: =ENERO!I42+FEBRERO!I42+MARZO!I42 -> 0 | J42: =ENERO!J42+FEBRERO!J42+MARZO!J42 -> 0 | K42: =ENERO!K42+FEBRERO!K42+MARZO!K42 -> 0 | L42: =ENERO!L42+FEBRERO!L42+MARZO!L42 -> 0 | ... Z42: =ENERO!Z42+FEBRERO!Z42+MARZO!Z42 -> 1
C43: Caraguatay | D43: =SUM(E43:Z43) -> 12 | E43: =ENERO!E43+FEBRERO!E43+MARZO!E43 -> 3 | F43: =ENERO!F43+FEBRERO!F43+MARZO!F43 -> 6 | G43: =ENERO!G43+FEBRERO!G43+MARZO!G43 -> 3 | H43: =ENERO!H43+FEBRERO!H43+MARZO!H43 -> 0 | I43: =ENERO!I43+FEBRERO!I43+MARZO!I43 -> 0 | J43: =ENERO!J43+FEBRERO!J43+MARZO!J43 -> 0 | K43: =ENERO!K43+FEBRERO!K43+MARZO!K43 -> 0 | L43: =ENERO!L43+FEBRERO!L43+MARZO!L43 -> 0 | ... Z43: =ENERO!Z43+FEBRERO!Z43+MARZO!Z43 -> 0
C44: Emboscada | D44: =SUM(E44:Z44) -> 17 | E44: =ENERO!E44+FEBRERO!E44+MARZO!E44 -> 3 | F44: =ENERO!F44+FEBRERO!F44+MARZO!F44 -> 9 | G44: =ENERO!G44+FEBRERO!G44+MARZO!G44 -> 3 | H44: =ENERO!H44+FEBRERO!H44+MARZO!H44 -> 2 | I44: =ENERO!I44+FEBRERO!I44+MARZO!I44 -> 0 | J44: =ENERO!J44+FEBRERO!J44+MARZO!J44 -> 0 | K44: =ENERO!K44+FEBRERO!K44+MARZO!K44 -> 0 | L44: =ENERO!L44+FEBRERO!L44+MARZO!L44 -> 0 | ... Z44: =ENERO!Z44+FEBRERO!Z44+MARZO!Z44 -> 0
C45: Eusebio Ayala | D45: =SUM(E45:Z45) -> 17 | E45: =ENERO!E45+FEBRERO!E45+MARZO!E45 -> 4 | F45: =ENERO!F45+FEBRERO!F45+MARZO!F45 -> 7 | G45: =ENERO!G45+FEBRERO!G45+MARZO!G45 -> 2 | H45: =ENERO!H45+FEBRERO!H45+MARZO!H45 -> 2 | I45: =ENERO!I45+FEBRERO!I45+MARZO!I45 -> 2 | J45: =ENERO!J45+FEBRERO!J45+MARZO!J45 -> 0 | K45: =ENERO!K45+FEBRERO!K45+MARZO!K45 -> 0 | L45: =ENERO!L45+FEBRERO!L45+MARZO!L45 -> 0 | ... Z45: =ENERO!Z45+FEBRERO!Z45+MARZO!Z45 -> 0
C46: Isla Pucú | D46: =SUM(E46:Z46) -> 7 | E46: =ENERO!E46+FEBRERO!E46+MARZO!E46 -> 3 | F46: =ENERO!F46+FEBRERO!F46+MARZO!F46 -> 2 | G46: =ENERO!G46+FEBRERO!G46+MARZO!G46 -> 0 | H46: =ENERO!H46+FEBRERO!H46+MARZO!H46 -> 0 | I46: =ENERO!I46+FEBRERO!I46+MARZO!I46 -> 2 | J46: =ENERO!J46+FEBRERO!J46+MARZO!J46 -> 0 | K46: =ENERO!K46+FEBRERO!K46+MARZO!K46 -> 0 | L46: =ENERO!L46+FEBRERO!L46+MARZO!L46 -> 0 | ... Z46: =ENERO!Z46+FEBRERO!Z46+MARZO!Z46 -> 0
C47: Itacurubí de la Cordillera | D47: =SUM(E47:Z47) -> 12 | E47: =ENERO!E47+FEBRERO!E47+MARZO!E47 -> 2 | F47: =ENERO!F47+FEBRERO!F47+MARZO!F47 -> 5 | G47: =ENERO!G47+FEBRERO!G47+MARZO!G47 -> 0 | H47: =ENERO!H47+FEBRERO!H47+MARZO!H47 -> 5 | I47: =ENERO!I47+FEBRERO!I47+MARZO!I47 -> 0 | J47: =ENERO!J47+FEBRERO!J47+MARZO!J47 -> 0 | K47: =ENERO!K47+FEBRERO!K47+MARZO!K47 -> 0 | L47: =ENERO!L47+FEBRERO!L47+MARZO!L47 -> 0 | ... Z47: =ENERO!Z47+FEBRERO!Z47+MARZO!Z47 -> 0
...

Sheet ENERO
A1: MINISTERIO DEL AMBIENTE Y DESARROLLO SOSTENIBLE - ENERO
A2: INSTRUMENTOS DE GESTIÓN | E2: TOTALES
B3: CANTIDAD POR DEPARTAMENTO. | C3: DISTRITO | D3: CANTIDAD POR DISTRITO | E3: DESTINATARIOS
E4: Mujeres | F4: Hombres | G4: SRL | H4: SA | I4: LTDA | J4: Agentes de Actividad aduanera | K4: Sociedades Auditoras Externas | L4: Empresas Mixtas o Públicas | M4: Entidades sin fines de Lucro | N4: Inst. De Gobierno Departamental | O4: Inst. De Gobierno Municipal | P4: Patrimonio Autónomo (Fideicomisos) | Q4: Sociedades Emisoras de Capital Abierto | R4: Instituc. de Gobierno Nacional | S4: Sociedades Calificadoras de Riesgo | T4: Administradoras de Fondos Mutuos | U4: Inst. Educativas Basica y Media | V4: Establecimiento de Salud | W4: Consejos Regionales y Locales | X4: Organismos Internacionales | Y4: Comunidades Indígenas | Z4: No Especificado
A5: CAPITAL | B5: =D5 -> 390 | C5: Asunción | D5: =SUM(E5:Z5) -> 390 | E5: =[1]FISCALIZACIONES!E5+[1]CERTIFICADOS!E5+[1]REGISTROS!E5+[1]PERMISOS!E5+[1]LICENCIAS!E5 -> 60 | F5: =[1]FISCALIZACIONES!F5+[1]CERTIFICADOS!F5+[1]REGISTROS!F5+[1]PERMISOS!F5+[1]LICENCIAS!F5 -> 123 | G5: =[1]FISCALIZACIONES!G5+[1]CERTIFICADOS!G5+[1]REGISTROS!G5+[1]PERMISOS!G5+[1]LICENCIAS!G5 -> 68 | H5: =[1]FISCALIZACIONES!H5+[1]CERTIFICADOS!H5+[1]REGISTROS!H5+[1]PERMISOS!H5+[1]LICENCIAS!H5 -> 115 | I5: =[1]FISCALIZACIONES!I5+[1]CERTIFICADOS!I5+[1]REGISTROS!I5+[1]PERMISOS!I5+[1]LICENCIAS!I5 -> 20 | J5: =[1]FISCALIZACIONES!J5+[1]CERTIFICADOS!J5+[1]REGISTROS!J5+[1]PERMISOS!J5+[1]LICENCIAS!J5 -> 0 | K5: =[1]FISCALIZACIONES!K5+[1]CERTIFICADOS!K5+[1]REGISTROS!K5+[1]PERMISOS!K5+[1]LICENCIAS!K5 -> 0 | L5: =[1]FISCALIZACIONES!L5+[1]CERTIFICADOS!L5+[1]REGISTROS!L5+[1]PERMISOS!L5+[1]LICENCIAS!L5 -> 0 | ... Z5: =[1]FISCALIZACIONES!Z5+[1]CERTIFICADOS!Z5+[1]REGISTROS!Z5+[1]PERMISOS!Z5+[1]LICENCIAS!Z5 -> 4
A6: CONCEPCION | B6: =SUM(D6:D17) -> 47 | C6: Arroyito | D6: =SUM(E6:Z6) -> 5 | E6: =[1]FISCALIZACIONES!E6+[1]CERTIFICADOS!E6+[1]REGISTROS!E6+[1]PERMISOS!E6+[1]LICENCIAS!E6 -> 2 | F6: =[1]FISCALIZACIONES!F6+[1]CERTIFICADOS!F6+[1]REGISTROS!F6+[1]PERMISOS!F6+[1]LICENCIAS!F6 -> 1 | G6: =[1]FISCALIZACIONES!G6+[1]CERTIFICADOS!G6+[1]REGISTROS!G6+[1]PERMISOS!G6+[1]LICENCIAS!G6 -> 2 | H6: =[1]FISCALIZACIONES!H6+[1]CERTIFICADOS!H6+[1]REGISTROS!H6+[1]PERMISOS!H6+[1]LICENCIAS!H6 -> 0 | I6: =[1]FISCALIZACIONES!I6+[1]CERTIFICADOS!I6+[1]REGISTROS!I6+[1]PERMISOS!I6+[1]LICENCIAS!I6 -> 0 | J6: =[1]FISCALIZACIONES!J6+[1]CERTIFICADOS!J6+[1]REGISTROS!J6+[1]PERMISOS!J6+[1]LICENCIAS!J6 -> 0 | K6: =[1]FISCALIZACIONES!K6+[1]CERTIFICADOS!K6+[1]REGISTROS!K6+[1]PERMISOS!K6+[1]LICENCIAS!K6 -> 0 | L6: =[1]FISCALIZACIONES!L6+[1]CERTIFICADOS!L6+[1]REGISTROS!L6+[1]PERMISOS!L6+[1]LICENCIAS!L6 -> 0 | ... Z6: =[1]FISCALIZACIONES!Z6+[1]CERTIFICADOS!Z6+[1]REGISTROS!Z6+[1]PERMISOS!Z6+[1]LICENCIAS!Z6 -> 0
C7: Azotey | D7: =SUM(E7:Z7) -> 2 | E7: =[1]FISCALIZACIONES!E7+[1]CERTIFICADOS!E7+[1]REGISTROS!E7+[1]PERMISOS!E7+[1]LICENCIAS!E7 -> 0 | F7: =[1]FISCALIZACIONES!F7+[1]CERTIFICADOS!F7+[1]REGISTROS!F7+[1]PERMISOS!F7+[1]LICENCIAS!F7 -> 1 | G7: =[1]FISCALIZACIONES!G7+[1]CERTIFICADOS!G7+[1]REGISTROS!G7+[1]PERMISOS!G7+[1]LICENCIAS!G7 -> 0 | H7: =[1]FISCALIZACIONES!H7+[1]CERTIFICADOS!H7+[1]REGISTROS!H7+[1]PERMISOS!H7+[1]LICENCIAS!H7 -> 1 | I7: =[1]FISCALIZACIONES!I7+[1]CERTIFICADOS!I7+[1]REGISTROS!I7+[1]PERMISOS!I7+[1]LICENCIAS!I7 -> 0 | J7: =[1]FISCALIZACIONES!J7+[1]CERTIFICADOS!J7+[1]REGISTROS!J7+[1]PERMISOS!J7+[1]LICENCIAS!J7 -> 0 | K7: =[1]FISCALIZACIONES!K7+[1]CERTIFICADOS!K7+[1]REGISTROS!K7+[1]PERMISOS!K7+[1]LICENCIAS!K7 -> 0 | L7: =[1]FISCALIZACIONES!L7+[1]CERTIFICADOS!L7+[1]REGISTROS!L7+[1]PERMISOS!L7+[1]LICENCIAS!L7 -> 0 | ... Z7: =[1]FISCALIZACIONES!Z7+[1]CERTIFICADOS!Z7+[1]REGISTROS!Z7+[1]PERMISOS!Z7+[1]LICENCIAS!Z7 -> 0
C8: Belén | D8: =SUM(E8:Z8) -> 2 | E8: =[1]FISCALIZACIONES!E8+[1]CERTIFICADOS!E8+[1]REGISTROS!E8+[1]PERMISOS!E8+[1]LICENCIAS!E8 -> 1 | F8: =[1]FISCALIZACIONES!F8+[1]CERTIFICADOS!F8+[1]REGISTROS!F8+[1]PERMISOS!F8+[1]LICENCIAS!F8 -> 1 | G8: =[1]FISCALIZACIONES!G8+[1]CERTIFICADOS!G8+[1]REGISTROS!G8+[1]PERMISOS!G8+[1]LICENCIAS!G8 -> 0 | H8: =[1]FISCALIZACIONES!H8+[1]CERTIFICADOS!H8+[1]REGISTROS!H8+[1]PERMISOS!H8+[1]LICENCIAS!H8 -> 0 | I8: =[1]FISCALIZACIONES!I8+[1]CERTIFICADOS!I8+[1]REGISTROS!I8+[1]PERMISOS!I8+[1]LICENCIAS!I8 -> 0 | J8: =[1]FISCALIZACIONES!J8+[1]CERTIFICADOS!J8+[1]REGISTROS!J8+[1]PERMISOS!J8+[1]LICENCIAS!J8 -> 0 | K8: =[1]FISCALIZACIONES!K8+[1]CERTIFICADOS!K8+[1]REGISTROS!K8+[1]PERMISOS!K8+[1]LICENCIAS!K8 -> 0 | L8: =[1]FISCALIZACIONES!L8+[1]CERTIFICADOS!L8+[1]REGISTROS!L8+[1]PERMISOS!L8+[1]LICENCIAS!L8 -> 0 | ... Z8: =[1]FISCALIZACIONES!Z8+[1]CERTIFICADOS!Z8+[1]REGISTROS!Z8+[1]PERMISOS!Z8+[1]LICENCIAS!Z8 -> 0
C9: Concepción | D9: =SUM(E9:Z9) -> 13 | E9: =[1]FISCALIZACIONES!E9+[1]CERTIFICADOS!E9+[1]REGISTROS!E9+[1]PERMISOS!E9+[1]LICENCIAS!E9 -> 2 | F9: =[1]FISCALIZACIONES!F9+[1]CERTIFICADOS!F9+[1]REGISTROS!F9+[1]PERMISOS!F9+[1]LICENCIAS!F9 -> 3 | G9: =[1]FISCALIZACIONES!G9+[1]CERTIFICADOS!G9+[1]REGISTROS!G9+[1]PERMISOS!G9+[1]LICENCIAS!G9 -> 2 | H9: =[1]FISCALIZACIONES!H9+[1]CERTIFICADOS!H9+[1]REGISTROS!H9+[1]PERMISOS!H9+[1]LICENCIAS!H9 -> 6 | I9: =[1]FISCALIZACIONES!I9+[1]CERTIFICADOS!I9+[1]REGISTROS!I9+[1]PERMISOS!I9+[1]LICENCIAS!I9 -> 0 | J9: =[1]FISCALIZACIONES!J9+[1]CERTIFICADOS!J9+[1]REGISTROS!J9+[1]PERMISOS!J9+[1]LICENCIAS!J9 -> 0 | K9: =[1]FISCALIZACIONES!K9+[1]CERTIFICADOS!K9+[1]REGISTROS!K9+[1]PERMISOS!K9+[1]LICENCIAS!K9 -> 0 | L9: =[1]FISCALIZACIONES!L9+[1]CERTIFICADOS!L9+[1]REGISTROS!L9+[1]PERMISOS!L9+[1]LICENCIAS!L9 -> 0 | ... Z9: =[1]FISCALIZACIONES!Z9+[1]CERTIFICADOS!Z9+[1]REGISTROS!Z9+[1]PERMISOS!Z9+[1]LICENCIAS!Z9 -> 0
C10: Horqueta | D10: =SUM(E10:Z10) -> 3 | E10: =[1]FISCALIZACIONES!E10+[1]CERTIFICADOS!E10+[1]REGISTROS!E10+[1]PERMISOS!E10+[1]LICENCIAS!E10 -> 1 | F10: =[1]FISCALIZACIONES!F10+[1]CERTIFICADOS!F10+[1]REGISTROS!F10+[1]PERMISOS!F10+[1]LICENCIAS!F10 -> 2 | G10: =[1]FISCALIZACIONES!G10+[1]CERTIFICADOS!G10+[1]REGISTROS!G10+[1]PERMISOS!G10+[1]LICENCIAS!G10 -> 0 | H10: =[1]FISCALIZACIONES!H10+[1]CERTIFICADOS!H10+[1]REGISTROS!H10+[1]PERMISOS!H10+[1]LICENCIAS!H10 -> 0 | I10: =[1]FISCALIZACIONES!I10+[1]CERTIFICADOS!I10+[1]REGISTROS!I10+[1]PERMISOS!I10+[1]LICENCIAS!I10 -> 0 | J10: =[1]FISCALIZACIONES!J10+[1]CERTIFICADOS!J10+[1]REGISTROS!J10+[1]PERMISOS!J10+[1]LICENCIAS!J10 -> 0 | K10: =[1]FISCALIZACIONES!K10+[1]CERTIFICADOS!K10+[1]REGISTROS!K10+[1]PERMISOS!K10+[1]LICENCIAS!K10 -> 0 | L10: =[1]FISCALIZACIONES!L10+[1]CERTIFICADOS!L10+[1]REGISTROS!L10+[1]PERMISOS!L10+[1]LICENCIAS!L10 -> 0 | ... Z10: =[1]FISCALIZACIONES!Z10+[1]CERTIFICADOS!Z10+[1]REGISTROS!Z10+[1]PERMISOS!Z10+[1]LICENCIAS!Z10 -> 0
C11: Loreto | D11: =SUM(E11:Z11) -> 4 | E11: =[1]FISCALIZACIONES!E11+[1]CERTIFICADOS!E11+[1]REGISTROS!E11+[1]PERMISOS!E11+[1]LICENCIAS!E11 -> 1 | F11: =[1]FISCALIZACIONES!F11+[1]CERTIFICADOS!F11+[1]REGISTROS!F11+[1]PERMISOS!F11+[1]LICENCIAS!F11 -> 1 | G11: =[1]FISCALIZACIONES!G11+[1]CERTIFICADOS!G11+[1]REGISTROS!G11+[1]PERMISOS!G11+[1]LICENCIAS!G11 -> 2 | H11: =[1]FISCALIZACIONES!H11+[1]CERTIFICADOS!H11+[1]REGISTROS!H11+[1]PERMISOS!H11+[1]LICENCIAS!H11 -> 0 | I11: =[1]FISCALIZACIONES!I11+[1]CERTIFICADOS!I11+[1]REGISTROS!I11+[1]PERMISOS!I11+[1]LICENCIAS!I11 -> 0 | J11: =[1]FISCALIZACIONES!J11+[1]CERTIFICADOS!J11+[1]REGISTROS!J11+[1]PERMISOS!J11+[1]LICENCIAS!J11 -> 0 | K11: =[1]FISCALIZACIONES!K11+[1]CERTIFICADOS!K11+[1]REGISTROS!K11+[1]PERMISOS!K11+[1]LICENCIAS!K11 -> 0 | L11: =[1]FISCALIZACIONES!L11+[1]CERTIFICADOS!L11+[1]REGISTROS!L11+[1]PERMISOS!L11+[1]LICENCIAS!L11 -> 0 | ... Z11: =[1]FISCALIZACIONES!Z11+[1]CERTIFICADOS!Z11+[1]REGISTROS!Z11+[1]PERMISOS!Z11+[1]LICENCIAS!Z11 -> 0
C12: San Carlos del Apa | D12: =SUM(E12:Z12) -> 3 | E12: =[1]FISCALIZACIONES!E12+[1]CERTIFICADOS!E12+[1]REGISTROS!E12+[1]PERMISOS!E12+[1]LICENCIAS!E12 -> 1 | F12: =[1]FISCALIZACIONES!F12+[1]CERTIFICADOS!F12+[1]REGISTROS!F12+[1]PERMISOS!F12+[1]LICENCIAS!F12 -> 1 | G12: =[1]FISCALIZACIONES!G12+[1]CERTIFICADOS!G12+[1]REGISTROS!G12+[1]PERMISOS!G12+[1]LICENCIAS!G12 -> 0 | H12: =[1]FISCALIZACIONES!H12+[1]CERTIFICADOS!H12+[1]REGISTROS!H12+[1]PERMISOS!H12+[1]LICENCIAS!H12 -> 1 | I12: =[1]FISCALIZACIONES!I12+[1]CERTIFICADOS!I12+[1]REGISTROS!I12+[1]PERMISOS!I12+[1]LICENCIAS!I12 -> 0 | J12: =[1]FISCALIZACIONES!J12+[1]CERTIFICADOS!J12+[1]REGISTROS!J12+[1]PERMISOS!J12+[1]LICENCIAS!J12 -> 0 | K12: =[1]FISCALIZACIONES!K12+[1]CERTIFICADOS!K12+[1]REGISTROS!K12+[1]PERMISOS!K12+[1]LICENCIAS!K12 -> 0 | L12: =[1]FISCALIZACIONES!L12+[1]CERTIFICADOS!L12+[1]REGISTROS!L12+[1]PERMISOS!L12+[1]LICENCIAS!L12 -> 0 | ... Z12: =[1]FISCALIZACIONES!Z12+[1]CERTIFICADOS!Z12+[1]REGISTROS!Z12+[1]PERMISOS!Z12+[1]LICENCIAS!Z12 -> 0
C13: San Lázaro | D13: =SUM(E13:Z13) -> 3 | E13: =[1]FISCALIZACIONES!E13+[1]CERTIFICADOS!E13+[1]REGISTROS!E13+[1]PERMISOS!E13+[1]LICENCIAS!E13 -> 0 | F13: =[1]FISCALIZACIONES!F13+[1]CERTIFICADOS!F13+[1]REGISTROS!F13+[1]PERMISOS!F13+[1]LICENCIAS!F13 -> 2 | G13: =[1]FISCALIZACIONES!G13+[1]CERTIFICADOS!G13+[1]REGISTROS!G13+[1]PERMISOS!G13+[1]LICENCIAS!G13 -> 1 | H13: =[1]FISCALIZACIONES!H13+[1]CERTIFICADOS!H13+[1]REGISTROS!H13+[1]PERMISOS!H13+[1]LICENCIAS!H13 -> 0 | I13: =[1]FISCALIZACIONES!I13+[1]CERTIFICADOS!I13+[1]REGISTROS!I13+[1]PERMISOS!I13+[1]LICENCIAS!I13 -> 0 | J13: =[1]FISCALIZACIONES!J13+[1]CERTIFICADOS!J13+[1]REGISTROS!J13+[1]PERMISOS!J13+[1]LICENCIAS!J13 -> 0 | K13: =[1]FISCALIZACIONES!K13+[1]CERTIFICADOS!K13+[1]REGISTROS!K13+[1]PERMISOS!K13+[1]LICENCIAS!K13 -> 0 | L13: =[1]FISCALIZACIONES!L13+[1]CERTIFICADOS!L13+[1]REGISTROS!L13+[1]PERMISOS!L13+[1]LICENCIAS!L13 -> 0 | ... Z13: =[1]FISCALIZACIONES!Z13+[1]CERTIFICADOS!Z13+[1]REGISTROS!Z13+[1]PERMISOS!Z13+[1]LICENCIAS!Z13 -> 0
C14: Yby Yaú | D14: =SUM(E14:Z14) -> 3 | E14: =[1]FISCALIZACIONES!E14+[1]CERTIFICADOS!E14+[1]REGISTROS!E14+[1]PERMISOS!E14+[1]LICENCIAS!E14 -> 1 | F14: =[1]FISCALIZACIONES!F14+[1]CERTIFICADOS!F14+[1]REGISTROS!F14+[1]PERMISOS!F14+[1]LICENCIAS!F14 -> 1 | G14: =[1]FISCALIZACIONES!G14+[1]CERTIFICADOS!G14+[1]REGISTROS!G14+[1]PERMISOS!G14+[1]LICENCIAS!G14 -> 1 | H14: =[1]FISCALIZACIONES!H14+[1]CERTIFICADOS!H14+[1]REGISTROS!H14+[1]PERMISOS!H14+[1]LICENCIAS!H14 -> 0 | I14: =[1]FISCALIZACIONES!I14+[1]CERTIFICADOS!I14+[1]REGISTROS!I14+[1]PERMISOS!I14+[1]LICENCIAS!I14 -> 0 | J14: =[1]FISCALIZACIONES!J14+[1]CERTIFICADOS!J14+[1]REGISTROS!J14+[1]PERMISOS!J14+[1]LICENCIAS!J14 -> 0 | K14: =[1]FISCALIZACIONES!K14+[1]CERTIFICADOS!K14+[1]REGISTROS!K14+[1]PERMISOS!K14+[1]LICENCIAS!K14 -> 0 | L14: =[1]FISCALIZACIONES!L14+[1]CERTIFICADOS!L14+[1]REGISTROS!L14+[1]PERMISOS!L14+[1]LICENCIAS!L14 -> 0 | ... Z14: =[1]FISCALIZACIONES!Z14+[1]CERTIFICADOS!Z14+[1]REGISTROS!Z14+[1]PERMISOS!Z14+[1]LICENCIAS!Z14 -> 0
C15: Sargento José Félix López | D15: =SUM(E15:Z15) -> 5 | E15: =[1]FISCALIZACIONES!E15+[1]CERTIFICADOS!E15+[1]REGISTROS!E15+[1]PERMISOS!E15+[1]LICENCIAS!E15 -> 1 | F15: =[1]FISCALIZACIONES!F15+[1]CERTIFICADOS!F15+[1]REGISTROS!F15+[1]PERMISOS!F15+[1]LICENCIAS!F15 -> 1 | G15: =[1]FISCALIZACIONES!G15+[1]CERTIFICADOS!G15+[1]REGISTROS!G15+[1]PERMISOS!G15+[1]LICENCIAS!G15 -> 2 | H15: =[1]FISCALIZACIONES!H15+[1]CERTIFICADOS!H15+[1]REGISTROS!H15+[1]PERMISOS!H15+[1]LICENCIAS!H15 -> 1 | I15: =[1]FISCALIZACIONES!I15+[1]CERTIFICADOS!I15+[1]REGISTROS!I15+[1]PERMISOS!I15+[1]LICENCIAS!I15 -> 0 | J15: =[1]FISCALIZACIONES!J15+[1]CERTIFICADOS!J15+[1]REGISTROS!J15+[1]PERMISOS!J15+[1]LICENCIAS!J15 -> 0 | K15: =[1]FISCALIZACIONES!K15+[1]CERTIFICADOS!K15+[1]REGISTROS!K15+[1]PERMISOS!K15+[1]LICENCIAS!K15 -> 0 | L15: =[1]FISCALIZACIONES!L15+[1]CERTIFICADOS!L15+[1]REGISTROS!L15+[1]PERMISOS!L15+[1]LICENCIAS!L15 -> 0 | ... Z15: =[1]FISCALIZACIONES!Z15+[1]CERTIFICADOS!Z15+[1]REGISTROS!Z15+[1]PERMISOS!Z15+[1]LICENCIAS!Z15 -> 0
C16: San Alfredo | D16: =SUM(E16:Z16) -> 3 | E16: =[1]FISCALIZACIONES!E16+[1]CERTIFICADOS!E16+[1]REGISTROS!E16+[1]PERMISOS!E16+[1]LICENCIAS!E16 -> 2 | F16: =[1]FISCALIZACIONES!F16+[1]CERTIFICADOS!F16+[1]REGISTROS!F16+[1]PERMISOS!F16+[1]LICENCIAS!F16 -> 1 | G16: =[1]FISCALIZACIONES!G16+[1]CERTIFICADOS!G16+[1]REGISTROS!G16+[1]PERMISOS!G16+[1]LICENCIAS!G16 -> 0 | H16: =[1]FISCALIZACIONES!H16+[1]CERTIFICADOS!H16+[1]REGISTROS!H16+[1]PERMISOS!H16+[1]LICENCIAS!H16 -> 0 | I16: =[1]FISCALIZACIONES!I16+[1]CERTIFICADOS!I16+[1]REGISTROS!I16+[1]PERMISOS!I16+[1]LICENCIAS!I16 -> 0 | J16: =[1]FISCALIZACIONES!J16+[1]CERTIFICADOS!J16+[1]REGISTROS!J16+[1]PERMISOS!J16+[1]LICENCIAS!J16 -> 0 | K16: =[1]FISCALIZACIONES!K16+[1]CERTIFICADOS!K16+[1]REGISTROS!K16+[1]PERMISOS!K16+[1]LICENCIAS!K16 -> 0 | L16: =[1]FISCALIZACIONES!L16+[1]CERTIFICADOS!L16+[1]REGISTROS!L16+[1]PERMISOS!L16+[1]LICENCIAS!L16 -> 0 | ... Z16: =[1]FISCALIZACIONES!Z16+[1]CERTIFICADOS!Z16+[1]REGISTROS!Z16+[1]PERMISOS!Z16+[1]LICENCIAS!Z16 -> 0
C17: Paso Barreto | D17: =SUM(E17:Z17) -> 1 | E17: =[1]FISCALIZACIONES!E17+[1]CERTIFICADOS!E17+[1]REGISTROS!E17+[1]PERMISOS!E17+[1]LICENCIAS!E17 -> 0 | F17: =[1]FISCALIZACIONES!F17+[1]CERTIFICADOS!F17+[1]REGISTROS!F17+[1]PERMISOS!F17+[1]LICENCIAS!F17 -> 0 | G17: =[1]FISCALIZACIONES!G17+[1]CERTIFICADOS!G17+[1]REGISTROS!G17+[1]PERMISOS!G17+[1]LICENCIAS!G17 -> 1 | H17: =[1]FISCALIZACIONES!H17+[1]CERTIFICADOS!H17+[1]REGISTROS!H17+[1]PERMISOS!H17+[1]LICENCIAS!H17 -> 0 | I17: =[1]FISCALIZACIONES!I17+[1]CERTIFICADOS!I17+[1]REGISTROS!I17+[1]PERMISOS!I17+[1]LICENCIAS!I17 -> 0 | J17: =[1]FISCALIZACIONES!J17+[1]CERTIFICADOS!J17+[1]REGISTROS!J17+[1]PERMISOS!J17+[1]LICENCIAS!J17 -> 0 | K17: =[1]FISCALIZACIONES!K17+[1]CERTIFICADOS!K17+[1]REGISTROS!K17+[1]PERMISOS!K17+[1]LICENCIAS!K17 -> 0 | L17: =[1]FISCALIZACIONES!L17+[1]CERTIFICADOS!L17+[1]REGISTROS!L17+[1]PERMISOS!L17+[1]LICENCIAS!L17 -> 0 | ... Z17: =[1]FISCALIZACIONES!Z17+[1]CERTIFICADOS!Z17+[1]REGISTROS!Z17+[1]PERMISOS!Z17+[1]LICENCIAS!Z17 -> 0
A18: SAN PEDRO | B18: =SUM(D18:D38) -> 63 | C18: Antequera | D18: =SUM(E18:Z18) -> 4 | E18: =[1]FISCALIZACIONES!E18+[1]CERTIFICADOS!E18+[1]REGISTROS!E18+[1]PERMISOS!E18+[1]LICENCIAS!E18 -> 0 | F18: =[1]FISCALIZACIONES!F18+[1]CERTIFICADOS!F18+[1]REGISTROS!F18+[1]PERMISOS!F18+[1]LICENCIAS!F18 -> 1 | G18: =[1]FISCALIZACIONES!G18+[1]CERTIFICADOS!G18+[1]REGISTROS!G18+[1]PERMISOS!G18+[1]LICENCIAS!G18 -> 2 | H18: =[1]FISCALIZACIONES!H18+[1]CERTIFICADOS!H18+[1]REGISTROS!H18+[1]PERMISOS!H18+[1]LICENCIAS!H18 -> 1 | I18: =[1]FISCALIZACIONES!I18+[1]CERTIFICADOS!I18+[1]REGISTROS!I18+[1]PERMISOS!I18+[1]LICENCIAS!I18 -> 0 | J18: =[1]FISCALIZACIONES!J18+[1]CERTIFICADOS!J18+[1]REGISTROS!J18+[1]PERMISOS!J18+[1]LICENCIAS!J18 -> 0 | K18: =[1]FISCALIZACIONES!K18+[1]CERTIFICADOS!K18+[1]REGISTROS!K18+[1]PERMISOS!K18+[1]LICENCIAS!K18 -> 0 | L18: =[1]FISCALIZACIONES!L18+[1]CERTIFICADOS!L18+[1]REGISTROS!L18+[1]PERMISOS!L18+[1]LICENCIAS!L18 -> 0 | ... Z18: =[1]FISCALIZACIONES!Z18+[1]CERTIFICADOS!Z18+[1]REGISTROS!Z18+[1]PERMISOS!Z18+[1]LICENCIAS!Z18 -> 0
C19: Capiibary | D19: =SUM(E19:Z19) -> 0 | E19: =[1]FISCALIZACIONES!E19+[1]CERTIFICADOS!E19+[1]REGISTROS!E19+[1]PERMISOS!E19+[1]LICENCIAS!E19 -> 0 | F19: =[1]FISCALIZACIONES!F19+[1]CERTIFICADOS!F19+[1]REGISTROS!F19+[1]PERMISOS!F19+[1]LICENCIAS!F19 -> 0 | G19: =[1]FISCALIZACIONES!G19+[1]CERTIFICADOS!G19+[1]REGISTROS!G19+[1]PERMISOS!G19+[1]LICENCIAS!G19 -> 0 | H19: =[1]FISCALIZACIONES!H19+[1]CERTIFICADOS!H19+[1]REGISTROS!H19+[1]PERMISOS!H19+[1]LICENCIAS!H19 -> 0 | I19: =[1]FISCALIZACIONES!I19+[1]CERTIFICADOS!I19+[1]REGISTROS!I19+[1]PERMISOS!I19+[1]LICENCIAS!I19 -> 0 | J19: =[1]FISCALIZACIONES!J19+[1]CERTIFICADOS!J19+[1]REGISTROS!J19+[1]PERMISOS!J19+[1]LICENCIAS!J19 -> 0 | K19: =[1]FISCALIZACIONES!K19+[1]CERTIFICADOS!K19+[1]REGISTROS!K19+[1]PERMISOS!K19+[1]LICENCIAS!K19 -> 0 | L19: =[1]FISCALIZACIONES!L19+[1]CERTIFICADOS!L19+[1]REGISTROS!L19+[1]PERMISOS!L19+[1]LICENCIAS!L19 -> 0 | ... Z19: =[1]FISCALIZACIONES!Z19+[1]CERTIFICADOS!Z19+[1]REGISTROS!Z19+[1]PERMISOS!Z19+[1]LICENCIAS!Z19 -> 0
C20: Choré | D20: =SUM(E20:Z20) -> 5 | E20: =[1]FISCALIZACIONES!E20+[1]CERTIFICADOS!E20+[1]REGISTROS!E20+[1]PERMISOS!E20+[1]LICENCIAS!E20 -> 1 | F20: =[1]FISCALIZACIONES!F20+[1]CERTIFICADOS!F20+[1]REGISTROS!F20+[1]PERMISOS!F20+[1]LICENCIAS!F20 -> 2 | G20: =[1]FISCALIZACIONES!G20+[1]CERTIFICADOS!G20+[1]REGISTROS!G20+[1]PERMISOS!G20+[1]LICENCIAS!G20 -> 1 | H20: =[1]FISCALIZACIONES!H20+[1]CERTIFICADOS!H20+[1]REGISTROS!H20+[1]PERMISOS!H20+[1]LICENCIAS!H20 -> 1 | I20: =[1]FISCALIZACIONES!I20+[1]CERTIFICADOS!I20+[1]REGISTROS!I20+[1]PERMISOS!I20+[1]LICENCIAS!I20 -> 0 | J20: =[1]FISCALIZACIONES!J20+[1]CERTIFICADOS!J20+[1]REGISTROS!J20+[1]PERMISOS!J20+[1]LICENCIAS!J20 -> 0 | K20: =[1]FISCALIZACIONES!K20+[1]CERTIFICADOS!K20+[1]REGISTROS!K20+[1]PERMISOS!K20+[1]LICENCIAS!K20 -> 0 | L20: =[1]FISCALIZACIONES!L20+[1]CERTIFICADOS!L20+[1]REGISTROS!L20+[1]PERMISOS!L20+[1]LICENCIAS!L20 -> 0 | ... Z20: =[1]FISCALIZACIONES!Z20+[1]CERTIFICADOS!Z20+[1]REGISTROS!Z20+[1]PERMISOS!Z20+[1]LICENCIAS!Z20 -> 0
C21: General Elizardo Aquino | D21: =SUM(E21:Z21) -> 1 | E21: =[1]FISCALIZACIONES!E21+[1]CERTIFICADOS!E21+[1]REGISTROS!E21+[1]PERMISOS!E21+[1]LICENCIAS!E21 -> 0 | F21: =[1]FISCALIZACIONES!F21+[1]CERTIFICADOS!F21+[1]REGISTROS!F21+[1]PERMISOS!F21+[1]LICENCIAS!F21 -> 1 | G21: =[1]FISCALIZACIONES!G21+[1]CERTIFICADOS!G21+[1]REGISTROS!G21+[1]PERMISOS!G21+[1]LICENCIAS!G21 -> 0 | H21: =[1]FISCALIZACIONES!H21+[1]CERTIFICADOS!H21+[1]REGISTROS!H21+[1]PERMISOS!H21+[1]LICENCIAS!H21 -> 0 | I21: =[1]FISCALIZACIONES!I21+[1]CERTIFICADOS!I21+[1]REGISTROS!I21+[1]PERMISOS!I21+[1]LICENCIAS!I21 -> 0 | J21: =[1]FISCALIZACIONES!J21+[1]CERTIFICADOS!J21+[1]REGISTROS!J21+[1]PERMISOS!J21+[1]LICENCIAS!J21 -> 0 | K21: =[1]FISCALIZACIONES!K21+[1]CERTIFICADOS!K21+[1]REGISTROS!K21+[1]PERMISOS!K21+[1]LICENCIAS!K21 -> 0 | L21: =[1]FISCALIZACIONES!L21+[1]CERTIFICADOS!L21+[1]REGISTROS!L21+[1]PERMISOS!L21+[1]LICENCIAS!L21 -> 0 | ... Z21: =[1]FISCALIZACIONES!Z21+[1]CERTIFICADOS!Z21+[1]REGISTROS!Z21+[1]PERMISOS!Z21+[1]LICENCIAS!Z21 -> 0
C22: General Isidoro Resquín | D22: =SUM(E22:Z22) -> 4 | E22: =[1]FISCALIZACIONES!E22+[1]CERTIFICADOS!E22+[1]REGISTROS!E22+[1]PERMISOS!E22+[1]LICENCIAS!E22 -> 0 | F22: =[1]FISCALIZACIONES!F22+[1]CERTIFICADOS!F22+[1]REGISTROS!F22+[1]PERMISOS!F22+[1]LICENCIAS!F22 -> 1 | G22: =[1]FISCALIZACIONES!G22+[1]CERTIFICADOS!G22+[1]REGISTROS!G22+[1]PERMISOS!G22+[1]LICENCIAS!G22 -> 0 | H22: =[1]FISCALIZACIONES!H22+[1]CERTIFICADOS!H22+[1]REGISTROS!H22+[1]PERMISOS!H22+[1]LICENCIAS!H22 -> 3 | I22: =[1]FISCALIZACIONES!I22+[1]CERTIFICADOS!I22+[1]REGISTROS!I22+[1]PERMISOS!I22+[1]LICENCIAS!I22 -> 0 | J22: =[1]FISCALIZACIONES!J22+[1]CERTIFICADOS!J22+[1]REGISTROS!J22+[1]PERMISOS!J22+[1]LICENCIAS!J22 -> 0 | K22: =[1]FISCALIZACIONES!K22+[1]CERTIFICADOS!K22+[1]REGISTROS!K22+[1]PERMISOS!K22+[1]LICENCIAS!K22 -> 0 | L22: =[1]FISCALIZACIONES!L22+[1]CERTIFICADOS!L22+[1]REGISTROS!L22+[1]PERMISOS!L22+[1]LICENCIAS!L22 -> 0 | ... Z22: =[1]FISCALIZACIONES!Z22+[1]CERTIFICADOS!Z22+[1]REGISTROS!Z22+[1]PERMISOS!Z22+[1]LICENCIAS!Z22 -> 0
C23: Guayaibí | D23: =SUM(E23:Z23) -> 2 | E23: =[1]FISCALIZACIONES!E23+[1]CERTIFICADOS!E23+[1]REGISTROS!E23+[1]PERMISOS!E23+[1]LICENCIAS!E23 -> 0 | F23: =[1]FISCALIZACIONES!F23+[1]CERTIFICADOS!F23+[1]REGISTROS!F23+[1]PERMISOS!F23+[1]LICENCIAS!F23 -> 0 | G23: =[1]FISCALIZACIONES!G23+[1]CERTIFICADOS!G23+[1]REGISTROS!G23+[1]PERMISOS!G23+[1]LICENCIAS!G23 -> 1 | H23: =[1]FISCALIZACIONES!H23+[1]CERTIFICADOS!H23+[1]REGISTROS!H23+[1]PERMISOS!H23+[1]LICENCIAS!H23 -> 1 | I23: =[1]FISCALIZACIONES!I23+[1]CERTIFICADOS!I23+[1]REGISTROS!I23+[1]PERMISOS!I23+[1]LICENCIAS!I23 -> 0 | J23: =[1]FISCALIZACIONES!J23+[1]CERTIFICADOS!J23+[1]REGISTROS!J23+[1]PERMISOS!J23+[1]LICENCIAS!J23 -> 0 | K23: =[1]FISCALIZACIONES!K23+[1]CERTIFICADOS!K23+[1]REGISTROS!K23+[1]PERMISOS!K23+[1]LICENCIAS!K23 -> 0 | L23: =[1]FISCALIZACIONES!L23+[1]CERTIFICADOS!L23+[1]REGISTROS!L23+[1]PERMISOS!L23+[1]LICENCIAS!L23 -> 0 | ... Z23: =[1]FISCALIZACIONES!Z23+[1]CERTIFICADOS!Z23+[1]REGISTROS!Z23+[1]PERMISOS!Z23+[1]LICENCIAS!Z23 -> 0
C24: Itacurubí del Rosario | D24: =SUM(E24:Z24) -> 3 | E24: =[1]FISCALIZACIONES!E24+[1]CERTIFICADOS!E24+[1]REGISTROS!E24+[1]PERMISOS!E24+[1]LICENCIAS!E24 -> 1 | F24: =[1]FISCALIZACIONES!F24+[1]CERTIFICADOS!F24+[1]REGISTROS!F24+[1]PERMISOS!F24+[1]LICENCIAS!F24 -> 2 | G24: =[1]FISCALIZACIONES!G24+[1]CERTIFICADOS!G24+[1]REGISTROS!G24+[1]PERMISOS!G24+[1]LICENCIAS!G24 -> 0 | H24: =[1]FISCALIZACIONES!H24+[1]CERTIFICADOS!H24+[1]REGISTROS!H24+[1]PERMISOS!H24+[1]LICENCIAS!H24 -> 0 | I24: =[1]FISCALIZACIONES!I24+[1]CERTIFICADOS!I24+[1]REGISTROS!I24+[1]PERMISOS!I24+[1]LICENCIAS!I24 -> 0 | J24: =[1]FISCALIZACIONES!J24+[1]CERTIFICADOS!J24+[1]REGISTROS!J24+[1]PERMISOS!J24+[1]LICENCIAS!J24 -> 0 | K24: =[1]FISCALIZACIONES!K24+[1]CERTIFICADOS!K24+[1]REGISTROS!K24+[1]PERMISOS!K24+[1]LICENCIAS!K24 -> 0 | L24: =[1]FISCALIZACIONES!L24+[1]CERTIFICADOS!L24+[1]REGISTROS!L24+[1]PERMISOS!L24+[1]LICENCIAS!L24 -> 0 | ... Z24: =[1]FISCALIZACIONES!Z24+[1]CERTIFICADOS!Z24+[1]REGISTROS!Z24+[1]PERMISOS!Z24+[1]LICENCIAS!Z24 -> 0
C25: Liberación | D25: =SUM(E25:Z25) -> 0 | E25: =[1]FISCALIZACIONES!E25+[1]CERTIFICADOS!E25+[1]REGISTROS!E25+[1]PERMISOS!E25+[1]LICENCIAS!E25 -> 0 | F25: =[1]FISCALIZACIONES!F25+[1]CERTIFICADOS!F25+[1]REGISTROS!F25+[1]PERMISOS!F25+[1]LICENCIAS!F25 -> 0 | G25: =[1]FISCALIZACIONES!G25+[1]CERTIFICADOS!G25+[1]REGISTROS!G25+[1]PERMISOS!G25+[1]LICENCIAS!G25 -> 0 | H25: =[1]FISCALIZACIONES!H25+[1]CERTIFICADOS!H25+[1]REGISTROS!H25+[1]PERMISOS!H25+[1]LICENCIAS!H25 -> 0 | I25: =[1]FISCALIZACIONES!I25+[1]CERTIFICADOS!I25+[1]REGISTROS!I25+[1]PERMISOS!I25+[1]LICENCIAS!I25 -> 0 | J25: =[1]FISCALIZACIONES!J25+[1]CERTIFICADOS!J25+[1]REGISTROS!J25+[1]PERMISOS!J25+[1]LICENCIAS!J25 -> 0 | K25: =[1]FISCALIZACIONES!K25+[1]CERTIFICADOS!K25+[1]REGISTROS!K25+[1]PERMISOS!K25+[1]LICENCIAS!K25 -> 0 | L25: =[1]FISCALIZACIONES!L25+[1]CERTIFICADOS!L25+[1]REGISTROS!L25+[1]PERMISOS!L25+[1]LICENCIAS!L25 -> 0 | ... Z25: =[1]FISCALIZACIONES!Z25+[1]CERTIFICADOS!Z25+[1]REGISTROS!Z25+[1]PERMISOS!Z25+[1]LICENCIAS!Z25 -> 0
C26: Lima | D26: =SUM(E26:Z26) -> 4 | E26: =[1]FISCALIZACIONES!E26+[1]CERTIFICADOS!E26+[1]REGISTROS!E26+[1]PERMISOS!E26+[1]LICENCIAS!E26 -> 0 | F26: =[1]FISCALIZACIONES!F26+[1]CERTIFICADOS!F26+[1]REGISTROS!F26+[1]PERMISOS!F26+[1]LICENCIAS!F26 -> 2 | G26: =[1]FISCALIZACIONES!G26+[1]CERTIFICADOS!G26+[1]REGISTROS!G26+[1]PERMISOS!G26+[1]LICENCIAS!G26 -> 1 | H26: =[1]FISCALIZACIONES!H26+[1]CERTIFICADOS!H26+[1]REGISTROS!H26+[1]PERMISOS!H26+[1]LICENCIAS!H26 -> 1 | I26: =[1]FISCALIZACIONES!I26+[1]CERTIFICADOS!I26+[1]REGISTROS!I26+[1]PERMISOS!I26+[1]LICENCIAS!I26 -> 0 | J26: =[1]FISCALIZACIONES!J26+[1]CERTIFICADOS!J26+[1]REGISTROS!J26+[1]PERMISOS!J26+[1]LICENCIAS!J26 -> 0 | K26: =[1]FISCALIZACIONES!K26+[1]CERTIFICADOS!K26+[1]REGISTROS!K26+[1]PERMISOS!K26+[1]LICENCIAS!K26 -> 0 | L26: =[1]FISCALIZACIONES!L26+[1]CERTIFICADOS!L26+[1]REGISTROS!L26+[1]PERMISOS!L26+[1]LICENCIAS!L26 -> 0 | ... Z26: =[1]FISCALIZACIONES!Z26+[1]CERTIFICADOS!Z26+[1]REGISTROS!Z26+[1]PERMISOS!Z26+[1]LICENCIAS!Z26 -> 0
C27: Nueva Germania | D27: =SUM(E27:Z27) -> 2 | E27: =[1]FISCALIZACIONES!E27+[1]CERTIFICADOS!E27+[1]REGISTROS!E27+[1]PERMISOS!E27+[1]LICENCIAS!E27 -> 1 | F27: =[1]FISCALIZACIONES!F27+[1]CERTIFICADOS!F27+[1]REGISTROS!F27+[1]PERMISOS!F27+[1]LICENCIAS!F27 -> 0 | G27: =[1]FISCALIZACIONES!G27+[1]CERTIFICADOS!G27+[1]REGISTROS!G27+[1]PERMISOS!G27+[1]LICENCIAS!G27 -> 0 | H27: =[1]FISCALIZACIONES!H27+[1]CERTIFICADOS!H27+[1]REGISTROS!H27+[1]PERMISOS!H27+[1]LICENCIAS!H27 -> 1 | I27: =[1]FISCALIZACIONES!I27+[1]CERTIFICADOS!I27+[1]REGISTROS!I27+[1]PERMISOS!I27+[1]LICENCIAS!I27 -> 0 | J27: =[1]FISCALIZACIONES!J27+[1]CERTIFICADOS!J27+[1]REGISTROS!J27+[1]PERMISOS!J27+[1]LICENCIAS!J27 -> 0 | K27: =[1]FISCALIZACIONES!K27+[1]CERTIFICADOS!K27+[1]REGISTROS!K27+[1]PERMISOS!K27+[1]LICENCIAS!K27 -> 0 | L27: =[1]FISCALIZACIONES!L27+[1]CERTIFICADOS!L27+[1]REGISTROS!L27+[1]PERMISOS!L27+[1]LICENCIAS!L27 -> 0 | ... Z27: =[1]FISCALIZACIONES!Z27+[1]CERTIFICADOS!Z27+[1]REGISTROS!Z27+[1]PERMISOS!Z27+[1]LICENCIAS!Z27 -> 0
C28: San Estanislao | D28: =SUM(E28:Z28) -> 6 | E28: =[1]FISCALIZACIONES!E28+[1]CERTIFICADOS!E28+[1]REGISTROS!E28+[1]PERMISOS!E28+[1]LICENCIAS!E28 -> 0 | F28: =[1]FISCALIZACIONES!F28+[1]CERTIFICADOS!F28+[1]REGISTROS!F28+[1]PERMISOS!F28+[1]LICENCIAS!F28 -> 3 | G28: =[1]FISCALIZACIONES!G28+[1]CERTIFICADOS!G28+[1]REGISTROS!G28+[1]PERMISOS!G28+[1]LICENCIAS!G28 -> 0 | H28: =[1]FISCALIZACIONES!H28+[1]CERTIFICADOS!H28+[1]REGISTROS!H28+[1]PERMISOS!H28+[1]LICENCIAS!H28 -> 2 | I28: =[1]FISCALIZACIONES!I28+[1]CERTIFICADOS!I28+[1]REGISTROS!I28+[1]PERMISOS!I28+[1]LICENCIAS!I28 -> 0 | J28: =[1]FISCALIZACIONES!J28+[1]CERTIFICADOS!J28+[1]REGISTROS!J28+[1]PERMISOS!J28+[1]LICENCIAS!J28 -> 0 | K28: =[1]FISCALIZACIONES!K28+[1]CERTIFICADOS!K28+[1]REGISTROS!K28+[1]PERMISOS!K28+[1]LICENCIAS!K28 -> 0 | L28: =[1]FISCALIZACIONES!L28+[1]CERTIFICADOS!L28+[1]REGISTROS!L28+[1]PERMISOS!L28+[1]LICENCIAS!L28 -> 0 | ... Z28: =[1]FISCALIZACIONES!Z28+[1]CERTIFICADOS!Z28+[1]REGISTROS!Z28+[1]PERMISOS!Z28+[1]LICENCIAS!Z28 -> 0
C29: San Pablo | D29: =SUM(E29:Z29) -> 4 | E29: =[1]FISCALIZACIONES!E29+[1]CERTIFICADOS!E29+[1]REGISTROS!E29+[1]PERMISOS!E29+[1]LICENCIAS!E29 -> 1 | F29: =[1]FISCALIZACIONES!F29+[1]CERTIFICADOS!F29+[1]REGISTROS!F29+[1]PERMISOS!F29+[1]LICENCIAS!F29 -> 1 | G29: =[1]FISCALIZACIONES!G29+[1]CERTIFICADOS!G29+[1]REGISTROS!G29+[1]PERMISOS!G29+[1]LICENCIAS!G29 -> 1 | H29: =[1]FISCALIZACIONES!H29+[1]CERTIFICADOS!H29+[1]REGISTROS!H29+[1]PERMISOS!H29+[1]LICENCIAS!H29 -> 0 | I29: =[1]FISCALIZACIONES!I29+[1]CERTIFICADOS!I29+[1]REGISTROS!I29+[1]PERMISOS!I29+[1]LICENCIAS!I29 -> 1 | J29: =[1]FISCALIZACIONES!J29+[1]CERTIFICADOS!J29+[1]REGISTROS!J29+[1]PERMISOS!J29+[1]LICENCIAS!J29 -> 0 | K29: =[1]FISCALIZACIONES!K29+[1]CERTIFICADOS!K29+[1]REGISTROS!K29+[1]PERMISOS!K29+[1]LICENCIAS!K29 -> 0 | L29: =[1]FISCALIZACIONES!L29+[1]CERTIFICADOS!L29+[1]REGISTROS!L29+[1]PERMISOS!L29+[1]LICENCIAS!L29 -> 0 | ... Z29: =[1]FISCALIZACIONES!Z29+[1]CERTIFICADOS!Z29+[1]REGISTROS!Z29+[1]PERMISOS!Z29+[1]LICENCIAS!Z29 -> 0
C30: San Pedro del Ycuamandiyú | D30: =SUM(E30:Z30) -> 10 | E30: =[1]FISCALIZACIONES!E30+[1]CERTIFICADOS!E30+[1]REGISTROS!E30+[1]PERMISOS!E30+[1]LICENCIAS!E30 -> 0 | F30: =[1]FISCALIZACIONES!F30+[1]CERTIFICADOS!F30+[1]REGISTROS!F30+[1]PERMISOS!F30+[1]LICENCIAS!F30 -> 9 | G30: =[1]FISCALIZACIONES!G30+[1]CERTIFICADOS!G30+[1]REGISTROS!G30+[1]PERMISOS!G30+[1]LICENCIAS!G30 -> 0 | H30: =[1]FISCALIZACIONES!H30+[1]CERTIFICADOS!H30+[1]REGISTROS!H30+[1]PERMISOS!H30+[1]LICENCIAS!H30 -> 0 | I30: =[1]FISCALIZACIONES!I30+[1]CERTIFICADOS!I30+[1]REGISTROS!I30+[1]PERMISOS!I30+[1]LICENCIAS!I30 -> 1 | J30: =[1]FISCALIZACIONES!J30+[1]CERTIFICADOS!J30+[1]REGISTROS!J30+[1]PERMISOS!J30+[1]LICENCIAS!J30 -> 0 | K30: =[1]FISCALIZACIONES!K30+[1]CERTIFICADOS!K30+[1]REGISTROS!K30+[1]PERMISOS!K30+[1]LICENCIAS!K30 -> 0 | L30: =[1]FISCALIZACIONES!L30+[1]CERTIFICADOS!L30+[1]REGISTROS!L30+[1]PERMISOS!L30+[1]LICENCIAS!L30 -> 0 | ... Z30: =[1]FISCALIZACIONES!Z30+[1]CERTIFICADOS!Z30+[1]REGISTROS!Z30+[1]PERMISOS!Z30+[1]LICENCIAS!Z30 -> 0
... C38: Yrybucuá | D38: =SUM(E38:Z38) -> 2 | E38: =[1]FISCALIZACIONES!E38+[1]CERTIFICADOS!E38+[1]REGISTROS!E38+[1]PERMISOS!E38+[1]LICENCIAS!E38 -> 1 | F38: =[1]FISCALIZACIONES!F38+[1]CERTIFICADOS!F38+[1]REGISTROS!F38+[1]PERMISOS!F38+[1]LICENCIAS!F38 -> 0 | G38: =[1]FISCALIZACIONES!G38+[1]CERTIFICADOS!G38+[1]REGISTROS!G38+[1]PERMISOS!G38+[1]LICENCIAS!G38 -> 0 | H38: =[1]FISCALIZACIONES!H38+[1]CERTIFICADOS!H38+[1]REGISTROS!H38+[1]PERMISOS!H38+[1]LICENCIAS!H38 -> 1 | I38: =[1]FISCALIZACIONES!I38+[1]CERTIFICADOS!I38+[1]REGISTROS!I38+[1]PERMISOS!I38+[1]LICENCIAS!I38 -> 0 | J38: =[1]FISCALIZACIONES!J38+[1]CERTIFICADOS!J38+[1]REGISTROS!J38+[1]PERMISOS!J38+[1]LICENCIAS!J38 -> 0 | K38: =[1]FISCALIZACIONES!K38+[1]CERTIFICADOS!K38+[1]REGISTROS!K38+[1]PERMISOS!K38+[1]LICENCIAS!K38 -> 0 | L38: =[1]FISCALIZACIONES!L38+[1]CERTIFICADOS!L38+[1]REGISTROS!L38+[1]PERMISOS!L38+[1]LICENCIAS!L38 -> 0 | ... Z38: =[1]FISCALIZACIONES!Z38+[1]CERTIFICADOS!Z38+[1]REGISTROS!Z38+[1]PERMISOS!Z38+[1]LICENCIAS!Z38 -> 0
A39: CORDILLERA | B39: =SUM(D39:D58) -> 81 | C39: Altos | D39: =SUM(E39:Z39) -> 3 | E39: =[1]FISCALIZACIONES!E39+[1]CERTIFICADOS!E39+[1]REGISTROS!E39+[1]PERMISOS!E39+[1]LICENCIAS!E39 -> 1 | F39: =[1]FISCALIZACIONES!F39+[1]CERTIFICADOS!F39+[1]REGISTROS!F39+[1]PERMISOS!F39+[1]LICENCIAS!F39 -> 1 | G39: =[1]FISCALIZACIONES!G39+[1]CERTIFICADOS!G39+[1]REGISTROS!G39+[1]PERMISOS!G39+[1]LICENCIAS!G39 -> 0 | H39: =[1]FISCALIZACIONES!H39+[1]CERTIFICADOS!H39+[1]REGISTROS!H39+[1]PERMISOS!H39+[1]LICENCIAS!H39 -> 1 | I39: =[1]FISCALIZACIONES!I39+[1]CERTIFICADOS!I39+[1]REGISTROS!I39+[1]PERMISOS!I39+[1]LICENCIAS!I39 -> 0 | J39: =[1]FISCALIZACIONES!J39+[1]CERTIFICADOS!J39+[1]REGISTROS!J39+[1]PERMISOS!J39+[1]LICENCIAS!J39 -> 0 | K39: =[1]FISCALIZACIONES!K39+[1]CERTIFICADOS!K39+[1]REGISTROS!K39+[1]PERMISOS!K39+[1]LICENCIAS!K39 -> 0 | L39: =[1]FISCALIZACIONES!L39+[1]CERTIFICADOS!L39+[1]REGISTROS!L39+[1]PERMISOS!L39+[1]LICENCIAS!L39 -> 0 | ... Z39: =[1]FISCALIZACIONES!Z39+[1]CERTIFICADOS!Z39+[1]REGISTROS!Z39+[1]PERMISOS!Z39+[1]LICENCIAS!Z39 -> 0
C40: Arroyos y Esteros | D40: =SUM(E40:Z40) -> 4 | E40: =[1]FISCALIZACIONES!E40+[1]CERTIFICADOS!E40+[1]REGISTROS!E40+[1]PERMISOS!E40+[1]LICENCIAS!E40 -> 1 | F40: =[1]FISCALIZACIONES!F40+[1]CERTIFICADOS!F40+[1]REGISTROS!F40+[1]PERMISOS!F40+[1]LICENCIAS!F40 -> 1 | G40: =[1]FISCALIZACIONES!G40+[1]CERTIFICADOS!G40+[1]REGISTROS!G40+[1]PERMISOS!G40+[1]LICENCIAS!G40 -> 1 | H40: =[1]FISCALIZACIONES!H40+[1]CERTIFICADOS!H40+[1]REGISTROS!H40+[1]PERMISOS!H40+[1]LICENCIAS!H40 -> 1 | I40: =[1]FISCALIZACIONES!I40+[1]CERTIFICADOS!I40+[1]REGISTROS!I40+[1]PERMISOS!I40+[1]LICENCIAS!I40 -> 0 | J40: =[1]FISCALIZACIONES!J40+[1]CERTIFICADOS!J40+[1]REGISTROS!J40+[1]PERMISOS!J40+[1]LICENCIAS!J40 -> 0 | K40: =[1]FISCALIZACIONES!K40+[1]CERTIFICADOS!K40+[1]REGISTROS!K40+[1]PERMISOS!K40+[1]LICENCIAS!K40 -> 0 | L40: =[1]FISCALIZACIONES!L40+[1]CERTIFICADOS!L40+[1]REGISTROS!L40+[1]PERMISOS!L40+[1]LICENCIAS!L40 -> 0 | ... Z40: =[1]FISCALIZACIONES!Z40+[1]CERTIFICADOS!Z40+[1]REGISTROS!Z40+[1]PERMISOS!Z40+[1]LICENCIAS!Z40 -> 0
C41: Atyrá | D41: =SUM(E41:Z41) -> 2 | E41: =[1]FISCALIZACIONES!E41+[1]CERTIFICADOS!E41+[1]REGISTROS!E41+[1]PERMISOS!E41+[1]LICENCIAS!E41 -> 1 | F41: =[1]FISCALIZACIONES!F41+[1]CERTIFICADOS!F41+[1]REGISTROS!F41+[1]PERMISOS!F41+[1]LICENCIAS!F41 -> 0 | G41: =[1]FISCALIZACIONES!G41+[1]CERTIFICADOS!G41+[1]REGISTROS!G41+[1]PERMISOS!G41+[1]LICENCIAS!G41 -> 0 | H41: =[1]FISCALIZACIONES!H41+[1]CERTIFICADOS!H41+[1]REGISTROS!H41+[1]PERMISOS!H41+[1]LICENCIAS!H41 -> 1 | I41: =[1]FISCALIZACIONES!I41+[1]CERTIFICADOS!I41+[1]REGISTROS!I41+[1]PERMISOS!I41+[1]LICENCIAS!I41 -> 0 | J41: =[1]FISCALIZACIONES!J41+[1]CERTIFICADOS!J41+[1]REGISTROS!J41+[1]PERMISOS!J41+[1]LICENCIAS!J41 -> 0 | K41: =[1]FISCALIZACIONES!K41+[1]CERTIFICADOS!K41+[1]REGISTROS!K41+[1]PERMISOS!K41+[1]LICENCIAS!K41 -> 0 | L41: =[1]FISCALIZACIONES!L41+[1]CERTIFICADOS!L41+[1]REGISTROS!L41+[1]PERMISOS!L41+[1]LICENCIAS!L41 -> 0 | ... Z41: =[1]FISCALIZACIONES!Z41+[1]CERTIFICADOS!Z41+[1]REGISTROS!Z41+[1]PERMISOS!Z41+[1]LICENCIAS!Z41 -> 0
C42: Caacupé | D42: =SUM(E42:Z42) -> 14 | E42: =[1]FISCALIZACIONES!E42+[1]CERTIFICADOS!E42+[1]REGISTROS!E42+[1]PERMISOS!E42+[1]LICENCIAS!E42 -> 1 | F42: =[1]FISCALIZACIONES!F42+[1]CERTIFICADOS!F42+[1]REGISTROS!F42+[1]PERMISOS!F42+[1]LICENCIAS!F42 -> 9 | G42: =[1]FISCALIZACIONES!G42+[1]CERTIFICADOS!G42+[1]REGISTROS!G42+[1]PERMISOS!G42+[1]LICENCIAS!G42 -> 1 | H42: =[1]FISCALIZACIONES!H42+[1]CERTIFICADOS!H42+[1]REGISTROS!H42+[1]PERMISOS!H42+[1]LICENCIAS!H42 -> 1 | I42: =[1]FISCALIZACIONES!I42+[1]CERTIFICADOS!I42+[1]REGISTROS!I42+[1]PERMISOS!I42+[1]LICENCIAS!I42 -> 0 | J42: =[1]FISCALIZACIONES!J42+[1]CERTIFICADOS!J42+[1]REGISTROS!J42+[1]PERMISOS!J42+[1]LICENCIAS!J42 -> 0 | K42: =[1]FISCALIZACIONES!K42+[1]CERTIFICADOS!K42+[1]REGISTROS!K42+[1]PERMISOS!K42+[1]LICENCIAS!K42 -> 0 | L42: =[1]FISCALIZACIONES!L42+[1]CERTIFICADOS!L42+[1]REGISTROS!L42+[1]PERMISOS!L42+[1]LICENCIAS!L42 -> 0 | ... Z42: =[1]FISCALIZACIONES!Z42+[1]CERTIFICADOS!Z42+[1]REGISTROS!Z42+[1]PERMISOS!Z42+[1]LICENCIAS!Z42 -> 1
C43: Caraguatay | D43: =SUM(E43:Z43) -> 3 | E43: =[1]FISCALIZACIONES!E43+[1]CERTIFICADOS!E43+[1]REGISTROS!E43+[1]PERMISOS!E43+[1]LICENCIAS!E43 -> 1 | F43: =[1]FISCALIZACIONES!F43+[1]CERTIFICADOS!F43+[1]REGISTROS!F43+[1]PERMISOS!F43+[1]LICENCIAS!F43 -> 1 | G43: =[1]FISCALIZACIONES!G43+[1]CERTIFICADOS!G43+[1]REGISTROS!G43+[1]PERMISOS!G43+[1]LICENCIAS!G43 -> 1 | H43: =[1]FISCALIZACIONES!H43+[1]CERTIFICADOS!H43+[1]REGISTROS!H43+[1]PERMISOS!H43+[1]LICENCIAS!H43 -> 0 | I43: =[1]FISCALIZACIONES!I43+[1]CERTIFICADOS!I43+[1]REGISTROS!I43+[1]PERMISOS!I43+[1]LICENCIAS!I43 -> 0 | J43: =[1]FISCALIZACIONES!J43+[1]CERTIFICADOS!J43+[1]REGISTROS!J43+[1]PERMISOS!J43+[1]LICENCIAS!J43 -> 0 | K43: =[1]FISCALIZACIONES!K43+[1]CERTIFICADOS!K43+[1]REGISTROS!K43+[1]PERMISOS!K43+[1]LICENCIAS!K43 -> 0 | L43: =[1]FISCALIZACIONES!L43+[1]CERTIFICADOS!L43+[1]REGISTROS!L43+[1]PERMISOS!L43+[1]LICENCIAS!L43 -> 0 | ... Z43: =[1]FISCALIZACIONES!Z43+[1]CERTIFICADOS!Z43+[1]REGISTROS!Z43+[1]PERMISOS!Z43+[1]LICENCIAS!Z43 -> 0
C44: Emboscada | D44: =SUM(E44:Z44) -> 4 | E44: =[1]FISCALIZACIONES!E44+[1]CERTIFICADOS!E44+[1]REGISTROS!E44+[1]PERMISOS!E44+[1]LICENCIAS!E44 -> 1 | F44: =[1]FISCALIZACIONES!F44+[1]CERTIFICADOS!F44+[1]REGISTROS!F44+[1]PERMISOS!F44+[1]LICENCIAS!F44 -> 1 | G44: =[1]FISCALIZACIONES!G44+[1]CERTIFICADOS!G44+[1]REGISTROS!G44+[1]PERMISOS!G44+[1]LICENCIAS!G44 -> 1 | H44: =[1]FISCALIZACIONES!H44+[1]CERTIFICADOS!H44+[1]REGISTROS!H44+[1]PERMISOS!H44+[1]LICENCIAS!H44 -> 1 | I44: =[1]FISCALIZACIONES!I44+[1]CERTIFICADOS!I44+[1]REGISTROS!I44+[1]PERMISOS!I44+[1]LICENCIAS!I44 -> 0 | J44: =[1]FISCALIZACIONES!J44+[1]CERTIFICADOS!J44+[1]REGISTROS!J44+[1]PERMISOS!J44+[1]LICENCIAS!J44 -> 0 | K44: =[1]FISCALIZACIONES!K44+[1]CERTIFICADOS!K44+[1]REGISTROS!K44+[1]PERMISOS!K44+[1]LICENCIAS!K44 -> 0 | L44: =[1]FISCALIZACIONES!L44+[1]CERTIFICADOS!L44+[1]REGISTROS!L44+[1]PERMISOS!L44+[1]LICENCIAS!L44 -> 0 | ... Z44: =[1]FISCALIZACIONES!Z44+[1]CERTIFICADOS!Z44+[1]REGISTROS!Z44+[1]PERMISOS!Z44+[1]LICENCIAS!Z44 -> 0
C45: Eusebio Ayala | D45: =SUM(E45:Z45) -> 4 | E45: =[1]FISCALIZACIONES!E45+[1]CERTIFICADOS!E45+[1]REGISTROS!E45+[1]PERMISOS!E45+[1]LICENCIAS!E45 -> 1 | F45: =[1]FISCALIZACIONES!F45+[1]CERTIFICADOS!F45+[1]REGISTROS!F45+[1]PERMISOS!F45+[1]LICENCIAS!F45 -> 2 | G45: =[1]FISCALIZACIONES!G45+[1]CERTIFICADOS!G45+[1]REGISTROS!G45+[1]PERMISOS!G45+[1]LICENCIAS!G45 -> 0 | H45: =[1]FISCALIZACIONES!H45+[1]CERTIFICADOS!H45+[1]REGISTROS!H45+[1]PERMISOS!H45+[1]LICENCIAS!H45 -> 0 | I45: =[1]FISCALIZACIONES!I45+[1]CERTIFICADOS!I45+[1]REGISTROS!I45+[1]PERMISOS!I45+[1]LICENCIAS!I45 -> 1 | J45: =[1]FISCALIZACIONES!J45+[1]CERTIFICADOS!J45+[1]REGISTROS!J45+[1]PERMISOS!J45+[1]LICENCIAS!J45 -> 0 | K45: =[1]FISCALIZACIONES!K45+[1]CERTIFICADOS!K45+[1]REGISTROS!K45+[1]PERMISOS!K45+[1]LICENCIAS!K45 -> 0 | L45: =[1]FISCALIZACIONES!L45+[1]CERTIFICADOS!L45+[1]REGISTROS!L45+[1]PERMISOS!L45+[1]LICENCIAS!L45 -> 0 | ... Z45: =[1]FISCALIZACIONES!Z45+[1]CERTIFICADOS!Z45+[1]REGISTROS!Z45+[1]PERMISOS!Z45+[1]LICENCIAS!Z45 -> 0
