Workbook

Sheet Hoja1
A3: MATRIZ DE INFORMACIÓN MINIMA PARA INFORME PARCIAL DE RENDICIÓN DE CUENTAS AL CIUDADANO
A5: 1- PRESENTACIÓN
A6: Institución: Ministerio del Ambiente y Desarrollo Sostenible
A7: Periodo del informe: ENERO 2022
A8: Misión institucional
A9: El Ministerio del Ambiente y Desarrollo Sostenible disena, establece, supervisa, fiscaliza y evalua la Polftica Ambiental National, promoviendo la investigation, recuperation, conservation, preservation, protection, ordenamiento, manejo y aprovechamiento de los recursos naturales, de manera articulada con organizaciones publicas, privadas y de la sociedad civil, a fin de asegurar el desarrollo sostenible y garantizar el derecho de todos los ciudadanos, de las generaciones presentes y futuras, a vivir en un ambiente saludable y disfrutar de los bienes y servicios brindados por los ecosistemas.
A16: Qué es la institución (en lenguaje sencillo, menos de 100 palabras)
A17: En el año 2000, por Ley N° 1561, se crea el Sistema Nacional del Ambiente, el Consejo del Ambiente y la Secretaria del Ambiente (SEAM). En el mes de agosto del ano 2018 se promulga la Ley 6123/18 Que Eleva a Rango de Ministerio a la Secretaria del Ambiente y pasa a Denominarse Ministerio del Ambiente y Desarrollo Sostenible. El objetivo de la institution el cual se describe como "la formulación, coordinación, ejecución y fiscalización de la politica ambiental nacional.
A24: 2-Presentación del CRCC http://www.mades.gov.py/resoluciones/por-la-cual-se-conforma-el-comite-de-rendicion-de-cuentas-al-ciudadano-del-ministerio-del-ambiente-y-desarrollo-sostenible/
A26: Nro. | B26: Dependencia | C26: Responsable | D26: Cargo que Ocupa
A27: 1 | B27: Dirección de Transparencia y Anticorrupción | C27: Amelia Ramirez | D27: Directora
A28: 2 | B28: Dirección de Gabinete | C28: Rossana Ramirez | D28: Coordinadora
A29: 3 | B29: Direcciones Grales (DGCCARN-DGPCRH-DGPCB-DGGA-DGA) | C29: Arnaldo Muñoz-Beatriz Silvero-Estela Gomez-Maria Jose Mendoza-Sofia Vera. | D29: Jefe de Verificación,Tecnica, Directora, Directora y Directora
A30: 4 | B30: Dirección de Administración y Finanzas | C30: Julio Verthe | D30: Director Financiero
A31: 5 | B31: Dirección de Planificación Estrategica | C31: Jesús Riquelme | D31: Jefe de Planificación
A32: 6 | B32: Dirección de Comunicación Social | C32: Alfredo Penzzi | D32: Director
A33: 7 | B33: Auditoria Interna | C33: Sandra Leiva | D33: Directora
A34: 8 | B34: Coordinación MECIP | C34: Beatriz Silvero | D34: Coordinadora
A35: 9 | B35: Dirección de Sistemas Informáticos | C35: Angelina Prieto | D35: Técnica
A37: 3- Plan de Rendición de Cuentas
A38: 3.1. Resolución de Aprobación y Anexo de Plan de Rendición de Cuentas
A39: Evidencia (Enlace del documento)
A41: 3.2 Plan de Rendición de Cuentas. El comité evaluo, los temas mas solicitados por la ciudadania, en cuanto a servicios, la medicion se ha realizado condiderado las solicitudes de acceso a la información presentadas ante el Portal Unificado, en el cual de acuerdo a la reiteraciones se ha visualizado el interes en los temas prioizados, asi tambien se ha tomado las denuncias como eje de relevancia para la ciudadania en los temas de interes.
A45: Priorización | B45: Tema / Descripción | C45: Vinculación POI, PEI, PND, ODS. | D45: Justificaciones | E45: Evidencia
A46: 1° | B46: Declaraciones de Impacto Ambiental
A47: 2° | B47: Licencias de Pesca
A48: 3° | B48: Ozono
A50: 4-Gestión Institucional
A51: 4.1 Nivel de Cumplimiento de Minimo de Información Disponible - Transparencia Activa Ley 5189 /14
A52: Mes | B52: Nivel de Cumplimiento (%) | C52: Enlace de la SFP
A53: Enero | B53: Intermedio | C53: https://www.sfp.gov.py/sfp/archivos/documentos/Intermedio_Enero_2020_r6
A54: Febrero | B54: Intermedio | C54: https://www.sfp.gov.py/sfp/archivos/documentos/Intermedio_Febrero_2020_
A55: Marzo | B55: Intermedio | C55: https://www.sfp.gov.py/sfp/archivos/documentos/Intermedio_Marzo_2020_zc
A56: Abril | B56: Intermedio | C56: https://www.sfp.gov.py/sfp/archivos/documentos/Informe_Abril_2020_dnpn2ryv.pdf
A58: 4.2 Nivel de Cumplimiento de Minimo de Información Disponible - Transparencia Activa Ley 5282/14
A59: Mes | B59: Nivel de Cumplimiento (%) | C59: Enlace SENAC
A60: Enero | B60: 83.33 | C60: https://app.powerbi.com/view?r=eyJrIjoiMmJlYjg1YzgtMmQ3Mi00YzVkLWJkOTQtOTE3ZTZkNzVhYTAzIiwidCI6Ijk2ZDUwYjY5LTE5MGQtNDkxYy1hM2U1LWExYWRlYmMxYTg3NSJ9
A61: Febrero | B61: 83.33 | C61: https://app.powerbi.com/view?r=eyJrIjoiMmJlYjg1YzgtMmQ3Mi00YzVkLWJkOTQtOTE3ZTZkNzVhYTAzIiwidCI6Ijk2ZDUwYjY5LTE5MGQtNDkxYy1hM2U1LWExYWRlYmMxYTg3NSJ9
A62: Marzo | B62: 80 | C62: https://app.powerbi.com/view?r=eyJrIjoiMmJlYjg1YzgtMmQ3Mi00YzVkLWJkOTQtOTE3ZTZkNzVhYTAzIiwidCI6Ijk2ZDUwYjY5LTE5MGQtNDkxYy1hM2U1LWExYWRlYmMxYTg3NSJ9
A63: Abril | B63: 80 | C63: https://app.powerbi.com/view?r=eyJrIjoiMmJlYjg1YzgtMmQ3Mi00YzVkLWJkOTQtOTE3ZTZkNzVhYTAzIiwidCI6Ijk2ZDUwYjY5LTE5MGQtNDkxYy1hM2U1LWExYWRlYmMxYTg3NSJ9
...

Sheet 4.4 GRÁFICO METAS Y EJEC.
A24: Observación: Los porcentajes reflejados en el gráfico son en relación a la ejecución total del mes
A45: Metas | B45: Valor de Inversión | C45: Porcentaje de Ejecución dentro de la Actividad | D45: Porcentaje en relación a la ejecución total del mes
A46: Gestión Administrativa Institucional | B46: =+Hoja1!F77 -> 2249069420 | C46: =+Hoja1!G77 -> 8 | D46: =+B46/Hoja1!E131 -> 0.76726474
A47: Instrumentos de Gestión | B47: =+Hoja1!F78 -> 244129606 | C47: =+Hoja1!G78 -> 2 | D47: =+B47/Hoja1!E131 -> 0.08328424
A48: Planes | B48: =+Hoja1!F79 -> 438083108 | C48: =+Hoja1!G79 -> 4 | D48: =+B48/Hoja1!D131 -> 0.0078351483

Sheet 4.8 GRÁFICO EJEC. PRESUP.
A1: GRAFICO
A2: EJECUCIÓN PRESUPUESTARIA DE GASTOS (DICIEMBRE 2021)
A28: RESUMEN
A30: GRUPO DE GASTOS | B30: DESCRIPCIÓN | C30: PRESUPUESTO | D30: EJECUTADO | E30: SALDO
A31: =+Hoja1!A99 -> 100 | B31: Servicios personales | C31: =+Hoja1!D99 -> 41533352501 | D31: =+Hoja1!E99 -> 2898302003 | E31: =+Hoja1!F99 -> 38635050498
A32: =+Hoja1!A105 -> 200 | B32: Servicios no personales | C32: =+Hoja1!D105 -> 8343006470 | D32: =+Hoja1!E105 -> 32980131 | E32: =+Hoja1!F105 -> 8310026339
A33: =+Hoja1!A113 -> 300 | B33: Bienes de consumo e insumos | C33: =+Hoja1!D113 -> 2471592260 | D33: =+Hoja1!E113 -> 0 | E33: =+Hoja1!F113 -> 2471592260
A34: =+Hoja1!A121 -> 500 | B34: Inversión fisica | C34: =+Hoja1!D121 -> 2679597084 | D34: =+Hoja1!E121 -> 0 | E34: =+Hoja1!F121 -> 2679597084
A35: =+Hoja1!A126 -> 800 | B35: Transferencias | C35: =+Hoja1!D126 -> 200000000 | D35: =+Hoja1!E126 -> 0 | E35: =+Hoja1!F126 -> 200000000
A36: =+Hoja1!A128 -> 900 | B36: Otros gastos | C36: =+Hoja1!D128 -> 685000000 | D36: =+Hoja1!E128 -> 0 | E36: =+Hoja1!F128 -> 685000000
C37: =SUM(C31:C36) -> 55912548315 | D37: =SUM(D31:D36) -> 2931282134 | E37: =SUM(E31:E36) -> 52981266181

Sheet PROGRAMAS EN EJECUCIÓN JULIO
A1: Programas en ejecución
A2: Proyectos y Programas Ejecutados a la fecha del Informe (listado referencial, apoyarse en gráficos ilustrativos)
A3: N° | B3: Descripción | C3: Objetivo/Resultado esperado | D3: Metas | E3: Población Beneficiaria | F3: Valor de Inversión | G3: Porcentaje de Ejecución (dentro de la Actividad) | H3: Evidencias
A4: 1 | B4: Programa Central | C4: Conservación y preservación de los Recursos Naturales en el territorio nacional, garantizados | D4: 7% en Gestión Administrativa | E4: Remitirse al punto 4.6 | F4: 2214817009 | G4: 6 | H4: REPORTE DE EJECUCIÓN PRESUPUESTARIA (JULIO) DEL SIARE/SIAF
D5: 7.997 instrumentos de Gestión Ambiental | E5: Remitirse al punto 4.6 | F5: 2026127842 | G5: 4 | H5: REPORTE DE EJECUCIÓN PRESUPUESTARIA (JULIO) DEL SIARE/SIAF
D6: 0 Planes | E6: Remitirse al punto 4.6 | F6: 548900079 | G6: 4 | H6: REPORTE DE EJECUCIÓN PRESUPUESTARIA (JULIO) DEL SIARE/SIAF
A8: Proyectos y Programas no Ejecutados (listado referencial, aporyarse en gráficos ilustrativos)
C9: Dificultades (Breve Descripción)
A10: N° | B10: Descripción | C10: Financieras | D10: De Gestión | E10: Externas | F10: Otras
A11: N/A (No se cuenta con proyectos dentro del presupuesto vigente y el Programa Central del MADES está en ejecución actualmente)
A13: 4.6 Servicios o Productos Misionales (Depende de la Naturaleza de la Misión Insitucional, puede abarcar un Programa o Proyecto)
A14: N° | B14: Descripción | C14: Objetivo | D14: Metas | E14: Población Beneficiaria | F14: Porcentaje de Ejecución | G14: Resultados Logrados | H14: Evidencia (Informe de Avance de Metas - SPR)
A18: 4.7 Contrataciones realizadas
A19: ID | B19: Objeto | C19: Valor del Contrato | D19: Proveedor Adjudicado | E19: Estado (Ejecución - Finiquitado) | F19: Enlace DNCP
A24: Ejecución Financiera (Generar gráfica)
A25: Rubro | B25: Sub-rubros | C25: Descripción | D25: Presupuestado | E25: Ejecutado | F25: Saldos | G25: Evidencia
A26: 100 | B26: 100 | C26: SERVICIOS PERSONALES | D26: =SUM(D27:D32) -> 55532179586 | E26: =SUM(E27:E32) -> 3246637600 | F26: =SUM(F27:F32) -> 52285541986 | G26: REPORTE DE EJECUCIÓN PRESUPUESTARIA (JULIO) DEL SIARE/SIAF
B27: 110 | C27: REMUNERACIONES BÁSICAS | D27: 34509822244 | E27: 2173020312 | F27: =+D27-E27 -> 32336801932
B28: 120 | C28: REMUNERACIONES TEMPORALES | D28: 4037137629 | E28: 247734062 | F28: =+D28-E28 -> 3789403567
B29: 130 | C29: ASIGNACIONES COMPLEMENTARIAS | D29: 8147353431 | E29: 456908217 | F29: =+D29-E29 -> 7690445214
B30: 140 | C30: PERSONAL CONTRATADO | D30: 8226349108 | E30: 362452143 | F30: =+D30-E30 -> 7863896965
B31: 180 | C31: FONDOS DE RESERVAS ESPECIALES | D31: 0 | E31: 0 | F31: =+D31-E31 -> 0
B32: 190 | C32: OTROS GASTOS DEL PERSONAL | D32: 611517174 | E32: 6522866 | F32: =+D32-E32 -> 604994308
A33: 200 | B33: 200 | C33: SERVICIOS NO PERSONALES | D33: =SUM(D34:D41) -> 34413333710 | E33: =SUM(E34:E41) -> 1391741390 | F33: =SUM(F34:F41) -> 33021592320
B34: 210 | C34: SERVICIOS BÁSICOS | D34: 703200000 | E34: 38781760 | F34: =+D34-E34 -> 664418240
B35: 230 | C35: PASAJES Y VIÁTICOS | D35: 3692491104 | E35: 96948630 | F35: =+D35-E35 -> 3595542474
B36: 240 | C36: GASTOS POR SERVICIOS DE ASEO, MANTENIMIENTO Y REPARACIONES | D36: 4983912032 | E36: 198900000 | F36: =+D36-E36 -> 4785012032
B37: 250 | C37: ALQUILERES Y DERECHOS | D37: 266400000 | E37: 0 | F37: =+D37-E37 -> 266400000
B38: 260 | C38: SERVICIOS TÉCNICOS Y PROFESIONALES | D38: 19588101634 | E38: 1057111000 | F38: =+D38-E38 -> 18530990634
B39: 270 | C39: SERVICIO SOCIAL | D39: 4386000000 | E39: 0 | F39: =+D39-E39 -> 4386000000
B40: 280 | C40: OTROS SERVICIOS EN GENERAL | D40: 483711220 | E40: 0 | F40: =+D40-E40 -> 483711220
B41: 290 | C41: SERVICIOS DE CAPACITACIÓN Y ADIESTRAMIENTO | D41: 309517720 | E41: 0 | F41: =+D41-E41 -> 309517720
A42: 300 | B42: 300 | C42: BIENES DE CONSUMO E INSUMOS | D42: =SUM(D43:D48) -> 4329505318 | E42: =SUM(E43:E48) -> 151465940 | F42: =SUM(F43:F48) -> 4178039378
B43: 310 | C43: PRODUCTOS ALIMENTICIOS | D43: 375000000 | E43: 4477780 | F43: =+D43-E43 -> 370522220
B44: 330 | C44: PRODUCTOS DE PAPEL, CARTÓN E IMPRESOS | D44: 279223378 | E44: 0 | F44: =+D44-E44 -> 279223378
B45: 340 | C45: BIENES DE CONSUMO DE OFICINAS E INSUMOS | D45: 225100000 | E45: 0 | F45: =+D45-E45 -> 225100000
B46: 350 | C46: PRODUCTOS E INSTRUM. QUÍMICOS Y MEDICINALES | D46: 625447902 | E46: 0 | F46: =+D46-E46 -> 625447902
B47: 360 | C47: COMBUSTIBLES Y LUBRICANTES | D47: 2410000000 | E47: 146988160 | F47: =+D47-E47 -> 2263011840
B48: 390 | C48: OTROS BIENES DE CONSUMO | D48: 414734038 | E48: 0 | F48: =+D48-E48 -> 414734038
A49: 500 | B49: 500 | C49: INVERSION FÍSICA | D49: =SUM(D50:D53) -> 3736525000 | E49: =SUM(E52:E53) -> 0 | F49: =SUM(F50:F53) -> 3736525000
...

Sheet 4.4 GRÁFICO METAS Y EJEC. (2)
A24: Observación: Los porcentajes reflejados en el gráfico son en relación a la ejecución total del mes
A45: Metas | B45: Valor de Inversión | C45: Porcentaje de Ejecución dentro de la Actividad | D45: Porcentaje en relación a la ejecución total del mes
A46: Gestión Administrativa Institucional | B46: =+'PROGRAMAS EN EJECUCIÓN JULIO'!$F$4 -> 2214817009 | C46: =+'PROGRAMAS EN EJECUCIÓN JULIO'!$G$4 -> 6 | D46: =+B46/B49 -> 0.46239848
A47: Instrumentos de Gestión | B47: =+'PROGRAMAS EN EJECUCIÓN JULIO'!$F$5 -> 2026127842 | C47: =+'PROGRAMAS EN EJECUCIÓN JULIO'!$G$5 -> 4 | D47: =+B47/B49 -> 0.42300489
A48: Planes | B48: =+'PROGRAMAS EN EJECUCIÓN JULIO'!$F$6 -> 548900079 | C48: =+'PROGRAMAS EN EJECUCIÓN JULIO'!$G$6 -> 4 | D48: =+B48/B49 -> 0.11459663
A49: Ejecución total del mes | B49: =SUM(B46:B48) -> 4789844930

Sheet 4.8 GRÁFICO EJEC. PRESUP. (2)
A1: GRAFICO
A2: EJECUCIÓN PRESUPUESTARIA DE GASTOS (DICIEMBRE 2021)
A28: RESUMEN
A30: GRUPO DE GASTOS | B30: DESCRIPCIÓN | C30: PRESUPUESTO | D30: EJECUTADO | E30: SALDO
A31: =+[1]Hoja1!A99 -> 100 | B31: Servicios personales | C31: =+'PROGRAMAS EN EJECUCIÓN JULIO'!$D$26 -> 55532179586 | D31: =+'PROGRAMAS EN EJECUCIÓN JULIO'!$E$26 -> 3246637600 | E31: =+C31-D31 -> 52285541986
A32: =+[1]Hoja1!A105 -> 200 | B32: Servicios no personales | C32: =+'PROGRAMAS EN EJECUCIÓN JULIO'!$D$33 -> 34413333710 | D32: =+'PROGRAMAS EN EJECUCIÓN JULIO'!$E$33 -> 1391741390 | E32: =+C32-D32 -> 33021592320
A33: =+[1]Hoja1!A113 -> 300 | B33: Bienes de consumo e insumos | C33: =+'PROGRAMAS EN EJECUCIÓN JULIO'!$D$42 -> 4329505318 | D33: =+'PROGRAMAS EN EJECUCIÓN JULIO'!E42 -> 151465940 | E33: =+C33-D33 -> 4178039378
A34: =+[1]Hoja1!A121 -> 500 | B34: Inversión fisica | C34: =+'PROGRAMAS EN EJECUCIÓN JULIO'!$D$49 -> 3736525000 | D34: =+'PROGRAMAS EN EJECUCIÓN JULIO'!E49 -> 0 | E34: =+C34-D34 -> 3736525000
A35: =+[1]Hoja1!A126 -> 800 | B35: Transferencias | C35: =+'PROGRAMAS EN EJECUCIÓN JULIO'!$D$54 -> 1420458971 | D35: =+'PROGRAMAS EN EJECUCIÓN JULIO'!E54 -> 0 | E35: =+C35-D35 -> 1420458971
A36: =+[1]Hoja1!A128 -> 900 | B36: Otros gastos | C36: =+'PROGRAMAS EN EJECUCIÓN JULIO'!$D$57 -> 296839905 | D36: =+'PROGRAMAS EN EJECUCIÓN JULIO'!E57 -> 0 | E36: =+C36-D36 -> 296839905
C37: =SUM(C31:C36) -> 99728842490 | D37: =SUM(D31:D36) -> 4789844930 | E37: =SUM(E31:E36) -> 94938997560
